BEGIN:VCALENDAR
VERSION:2.0
PRODID:-//Le Petit Varois.Fr - ECPv6.0.10//NONSGML v1.0//EN
CALSCALE:GREGORIAN
METHOD:PUBLISH
X-WR-CALNAME:Le Petit Varois.Fr
X-ORIGINAL-URL:https://lepetitvarois.fr
X-WR-CALDESC:évènements pour Le Petit Varois.Fr
REFRESH-INTERVAL;VALUE=DURATION:PT1H
X-Robots-Tag:noindex
X-PUBLISHED-TTL:PT1H
BEGIN:VTIMEZONE
TZID:Europe/Paris
BEGIN:DAYLIGHT
TZOFFSETFROM:+0100
TZOFFSETTO:+0200
TZNAME:CEST
DTSTART:20180325T010000
END:DAYLIGHT
BEGIN:STANDARD
TZOFFSETFROM:+0200
TZOFFSETTO:+0100
TZNAME:CET
DTSTART:20181028T010000
END:STANDARD
END:VTIMEZONE
BEGIN:VEVENT
DTSTART;TZID=Europe/Paris:20180909T080000
DTEND;TZID=Europe/Paris:20180909T160000
DTSTAMP:20260421T174130
CREATED:20180901T181136Z
LAST-MODIFIED:20180901T181136Z
UID:7017-1536480000-1536508800@lepetitvarois.fr
SUMMARY:Vide-greniers de 8h à 16h
DESCRIPTION:Vide-greniers de 8h à 16h.\nContre-allée de Lattre de Tassigny. SIX FOURS \nL’ouverture de la location commence environ 1 mois avant la date du vide-greniers à 9h. Modalités (Extrait) pour réserver son emplacement : \n\n Consulter le plan des places et noter l’emplacement voulu (relever en plusieurs en raison d’un risque d’indisponibilité)\n Appeler le 06 51 75 36 84. Ne pas laisser de message. Vous ne serez pas rappelé.\n Effectuer votre réservation et écouter les consignes : donner votre nom\, votre numéro de téléphone\, réserver votre ou vos emplacements\,  envoyer un chèque à l’adresse indiquée sur le règlement intérieur que vous devez télécharger ci-dessous et que vous devez lire\, imprimer\, remplir et glisser dans l’enveloppe de votre paiement  avec votre déclaration sur l’honneur en indiquant au dos du chèque le numéro de l’emplacement ou des emplacements réservés. 20 € par emplacement.\n Votre chèque est encaissé le lendemain du vide-grenier\n La place est revendue à partir de 8h le jour du vide-greniers si elle n’est pas occupée.\n\n> 20 € l’emplacement sur réservation. \nRéveil Six Fournais 06 51 75 36 84
URL:https://lepetitvarois.fr/event/vide-greniers-de-8h-a-16h/
CATEGORIES:Six-Fours
ATTACH;FMTTYPE=image/jpeg:https://lepetitvarois.fr/wp-content/uploads/2018/02/flea-market-1883689_960_720.jpg
END:VEVENT
END:VCALENDAR