BEGIN:VCALENDAR
VERSION:2.0
PRODID:-//Le Petit Varois.Fr - ECPv6.0.10//NONSGML v1.0//EN
CALSCALE:GREGORIAN
METHOD:PUBLISH
X-ORIGINAL-URL:https://lepetitvarois.fr
X-WR-CALDESC:évènements pour Le Petit Varois.Fr
REFRESH-INTERVAL;VALUE=DURATION:PT1H
X-Robots-Tag:noindex
X-PUBLISHED-TTL:PT1H
BEGIN:VTIMEZONE
TZID:Europe/Paris
BEGIN:DAYLIGHT
TZOFFSETFROM:+0100
TZOFFSETTO:+0200
TZNAME:CEST
DTSTART:20180325T010000
END:DAYLIGHT
BEGIN:STANDARD
TZOFFSETFROM:+0200
TZOFFSETTO:+0100
TZNAME:CET
DTSTART:20181028T010000
END:STANDARD
END:VTIMEZONE
BEGIN:VEVENT
DTSTART;TZID=Europe/Paris:20180911T093000
DTEND;TZID=Europe/Paris:20180911T113000
DTSTAMP:20260421T174333
CREATED:20180901T181937Z
LAST-MODIFIED:20180901T181937Z
UID:7023-1536658200-1536665400@lepetitvarois.fr
SUMMARY:Instant café "La Communication Bienveillante"
DESCRIPTION:Instant café « La Communication Bienveillante » de 18h à 20h.\nMaison des familles\, 135 rue de la Cauquière. SIX FOURS \nCes moments d’échange entre familles se dé roulent en petit groupe\, dans une ambiance détendue et conviviale\, selon un thème spécifique à chaque rendez-vous. Ils sont animés par des professionnels de la famille. \n> Gratuit sur inscription.\nMaison des Familles 04 94 34 93 70  
URL:https://lepetitvarois.fr/event/instant-cafe-la-communication-bienveillante/
CATEGORIES:Six-Fours
ATTACH;FMTTYPE=image/jpeg:https://lepetitvarois.fr/wp-content/uploads/2018/06/girls-739071_960_720.jpg
END:VEVENT
END:VCALENDAR