BEGIN:VCALENDAR
VERSION:2.0
PRODID:-//Le Petit Varois.Fr - ECPv6.0.10//NONSGML v1.0//EN
CALSCALE:GREGORIAN
METHOD:PUBLISH
X-ORIGINAL-URL:https://lepetitvarois.fr
X-WR-CALDESC:évènements pour Le Petit Varois.Fr
REFRESH-INTERVAL;VALUE=DURATION:PT1H
X-Robots-Tag:noindex
X-PUBLISHED-TTL:PT1H
BEGIN:VTIMEZONE
TZID:Europe/Paris
BEGIN:DAYLIGHT
TZOFFSETFROM:+0100
TZOFFSETTO:+0200
TZNAME:CEST
DTSTART:20180325T010000
END:DAYLIGHT
BEGIN:STANDARD
TZOFFSETFROM:+0200
TZOFFSETTO:+0100
TZNAME:CET
DTSTART:20181028T010000
END:STANDARD
END:VTIMEZONE
BEGIN:VEVENT
DTSTART;VALUE=DATE:20180915
DTEND;VALUE=DATE:20180917
DTSTAMP:20260421T174348
CREATED:20180901T185642Z
LAST-MODIFIED:20180901T185642Z
UID:7044-1536969600-1537142399@lepetitvarois.fr
SUMMARY:Journées Européennes du Patrimoine  Six Fours
DESCRIPTION:Journées Européennes du Patrimoine\nSIX FOURS\nProgramme sur demande dans nos accueils ou sur www.tourisme-ouestvar.com\nSamedi 15 septembre :  \n9h à 17h\, visite de l’église St Pierre du Brusc. \n11h\, vernissage de l’exposition « #lovesixfours » concours Instagram\, chemin piétonnier de la Coudoulière. \n14h30\, visite guidée par Serge Sappino\, Les Amis du Patrimoine\, des hameaux Les Playes\, Augias\, Grand\, Estève Bas. Rdv devant l’église des Playes (durée environ 1h). \n14h30\, visite guidée par Claude Majastre\, les Amis du Patrimoine\, sur les traces de la tuilerie Romain Boyer. Rdv dans la cour d’honneur de la Maison du Cygne (durée environ 1h15). \n20h\, Collégiale Saint-Pierre : concert gratuit sur inscriptions. \n  \nDimanche 16 septembre :  \n10h30 et 16h\, visite guidée de la Collégiale Saint-Pierre avec S. Sappino et A. Peretti. \nDe 14h à 17h\, quai de la Prud’homie au Brusc : promenade en pointus par l’association Lou Capian. \n14h30 à l’aire de battage de la rue Victor Hugo : représentation théâtrale « Les Lettres de mon moulin » avec la compagnie du Grillon. \n14h30\, devant la collégiale Saint-Pierre : danses folkloriques avec Lou Raioulet. \n12h à 18h\, visite de l’église St Pierre du Brusc. \n  \nSamedi et dimanche :  \nToute la journée ouverture de la Collégiale St Pierre – visite libre. \nExposition « les objets d’antan » par Isabelle et Georges Dalmas à la Maison du Cygne. \n15h à 18h accueil et visite de la chapelle de Pépiole. \nHôtel de ville 04 94 34 93 00 www.ville-six-fours.fr
URL:https://lepetitvarois.fr/event/journees-europeennes-du-patrimoine-six-fours/
CATEGORIES:Six-Fours
ATTACH;FMTTYPE=image/jpeg:https://lepetitvarois.fr/wp-content/uploads/2015/04/21039510_10213072737549844_237770712_n.jpg
END:VEVENT
END:VCALENDAR