BEGIN:VCALENDAR
VERSION:2.0
PRODID:-//Le Petit Varois.Fr - ECPv6.0.10//NONSGML v1.0//EN
CALSCALE:GREGORIAN
METHOD:PUBLISH
X-ORIGINAL-URL:https://lepetitvarois.fr
X-WR-CALDESC:évènements pour Le Petit Varois.Fr
REFRESH-INTERVAL;VALUE=DURATION:PT1H
X-Robots-Tag:noindex
X-PUBLISHED-TTL:PT1H
BEGIN:VTIMEZONE
TZID:Europe/Paris
BEGIN:DAYLIGHT
TZOFFSETFROM:+0100
TZOFFSETTO:+0200
TZNAME:CEST
DTSTART:20180325T010000
END:DAYLIGHT
BEGIN:STANDARD
TZOFFSETFROM:+0200
TZOFFSETTO:+0100
TZNAME:CET
DTSTART:20181028T010000
END:STANDARD
END:VTIMEZONE
BEGIN:VEVENT
DTSTART;TZID=Europe/Paris:20180917T150000
DTEND;TZID=Europe/Paris:20180917T170000
DTSTAMP:20260421T174145
CREATED:20180901T190528Z
LAST-MODIFIED:20180901T190528Z
UID:7050-1537196400-1537203600@lepetitvarois.fr
SUMMARY:Un témoignage exceptionnel de Jules Meurey\, photographe à Six Fours sur la libération
DESCRIPTION:Conférence « Un témoignage exceptionnel de Jules Meurey\, photographe à Six Fours de 1933 à 1956\, sur la libération de notre région » animée par Claude Majastre\, de l’association du Patrimoine de Six Fours et des environs à 15h.\nThéâtre Daudet\, 100 av. du Maréchal de Lattre De Tassigny. SIX FOURS\n> Entrée libre.\nVoyages et Loisirs Culturels (association) 04 94 88 64 45 / 06 61 94 86 67
URL:https://lepetitvarois.fr/event/un-temoignage-exceptionnel-de-jules-meurey-photographe-a-six-fours-sur-la-liberation/
CATEGORIES:Six-Fours
ATTACH;FMTTYPE=image/jpeg:https://lepetitvarois.fr/wp-content/uploads/2018/08/39960783_1903005653113228_5470421947093352448_o.jpg
END:VEVENT
END:VCALENDAR