BEGIN:VCALENDAR
VERSION:2.0
PRODID:-//Le Petit Varois.Fr - ECPv6.0.10//NONSGML v1.0//EN
CALSCALE:GREGORIAN
METHOD:PUBLISH
X-ORIGINAL-URL:https://lepetitvarois.fr
X-WR-CALDESC:évènements pour Le Petit Varois.Fr
REFRESH-INTERVAL;VALUE=DURATION:PT1H
X-Robots-Tag:noindex
X-PUBLISHED-TTL:PT1H
BEGIN:VTIMEZONE
TZID:Europe/Paris
BEGIN:DAYLIGHT
TZOFFSETFROM:+0100
TZOFFSETTO:+0200
TZNAME:CEST
DTSTART:20180325T010000
END:DAYLIGHT
BEGIN:STANDARD
TZOFFSETFROM:+0200
TZOFFSETTO:+0100
TZNAME:CET
DTSTART:20181028T010000
END:STANDARD
END:VTIMEZONE
BEGIN:VEVENT
DTSTART;VALUE=DATE:20180922
DTEND;VALUE=DATE:20180923
DTSTAMP:20260421T174333
CREATED:20180901T191512Z
LAST-MODIFIED:20180901T191512Z
UID:7056-1537574400-1537660799@lepetitvarois.fr
SUMMARY:Régate : Défi d'automne
DESCRIPTION:Régate : Défi d’automne\nIle des Embiez. SIX FOURS\nPour plus d’information\, se renseigner auprès du Yacht Club des Embiez. \nLe public pourra admirer les voiliers au large des Embiez. \nYacht Club des Embiez 09 84 04 58 70 / 06 88 39 59 96
URL:https://lepetitvarois.fr/event/regate-defi-dautomne/
CATEGORIES:Six-Fours
ATTACH;FMTTYPE=image/jpeg:https://lepetitvarois.fr/wp-content/uploads/2018/04/sailing-boat-1593613_960_720.jpg
END:VEVENT
BEGIN:VEVENT
DTSTART;TZID=Europe/Paris:20180922T120000
DTEND;TZID=Europe/Paris:20180922T170000
DTSTAMP:20260421T174333
CREATED:20180901T191613Z
LAST-MODIFIED:20180901T191613Z
UID:7058-1537617600-1537635600@lepetitvarois.fr
SUMMARY:Sardinade géante à 12h
DESCRIPTION:Sardinade géante à 12h.\nSquare Marcel Pagnol\, bd des Ecoles\, Les Lônes. SIX FOURS\nRepas avec animation pour profiter de la fin de l’été. \n> 19 € (apéritif\, sardines\, fromage\, dessert\, vin rouge et rosé). Pensez à apporter vos couverts. Réservation conseillée.\nLes Lônes mon village (Association)  07 86 13 44 31
URL:https://lepetitvarois.fr/event/sardinade-geante-a-12h/
CATEGORIES:Six-Fours
ATTACH;FMTTYPE=image/jpeg:https://lepetitvarois.fr/wp-content/uploads/2018/07/sardines-1489630_960_720.jpg
END:VEVENT
BEGIN:VEVENT
DTSTART;TZID=Europe/Paris:20180922T193000
DTEND;TZID=Europe/Paris:20180922T233000
DTSTAMP:20260421T174333
CREATED:20180901T191800Z
LAST-MODIFIED:20180901T191800Z
UID:7060-1537644600-1537659000@lepetitvarois.fr
SUMMARY:Repas dansant avec l'orchestre Nostalgia
DESCRIPTION:Repas dansant avec l’orchestre Nostalgia à 19h30.\nEspace culturel André Malraux\, 100 av. de Lattre de Tassigny. SIX FOURS \nL’amicale Six Fournaise des rapatriés vous propose une soirée dansante espagnole avec repas en rouge et or. \nAu menu : apéritif\, tapas\, gardiane de taureau accompagnée de riz\, fromage\, dessert\, eau\, vin et café. \n> 28 €. Inscription obligatoire.\nAmicale Six Fournaise des Rapatriés 06 61 70 68 32 / 06 65 75 19 85  
URL:https://lepetitvarois.fr/event/repas-dansant-avec-lorchestre-nostalgia/
CATEGORIES:Six-Fours
ATTACH;FMTTYPE=image/jpeg:https://lepetitvarois.fr/wp-content/uploads/2018/06/dance-238263_960_720.jpg
END:VEVENT
END:VCALENDAR