BEGIN:VCALENDAR
VERSION:2.0
PRODID:-//Le Petit Varois.Fr - ECPv6.0.10//NONSGML v1.0//EN
CALSCALE:GREGORIAN
METHOD:PUBLISH
X-ORIGINAL-URL:https://lepetitvarois.fr
X-WR-CALDESC:évènements pour Le Petit Varois.Fr
REFRESH-INTERVAL;VALUE=DURATION:PT1H
X-Robots-Tag:noindex
X-PUBLISHED-TTL:PT1H
BEGIN:VTIMEZONE
TZID:Europe/Paris
BEGIN:DAYLIGHT
TZOFFSETFROM:+0100
TZOFFSETTO:+0200
TZNAME:CEST
DTSTART:20180325T010000
END:DAYLIGHT
BEGIN:STANDARD
TZOFFSETFROM:+0200
TZOFFSETTO:+0100
TZNAME:CET
DTSTART:20181028T010000
END:STANDARD
END:VTIMEZONE
BEGIN:VEVENT
DTSTART;TZID=Europe/Paris:20180930T080000
DTEND;TZID=Europe/Paris:20180930T130000
DTSTAMP:20260421T173305
CREATED:20180901T194819Z
LAST-MODIFIED:20180901T194819Z
UID:7092-1538294400-1538312400@lepetitvarois.fr
SUMMARY:Trail du Cap Sicié
DESCRIPTION:Trail du Cap Sicié \nDéparts de la corniche des Îles. SIX FOURS\n8h45 : Parcours 26 km (à partir de 20 ans)\n9h45 : Parcours 14 km (à partir de 16 ans)\n10h : Course enfant (moins de 16 ans) \n> 21 € trail de 26 km / 16 € trail de 14 km.\nInscription en ligne : https://www.njuko.net/traildesicie-2018/select_competition \nPar courrier avant le 24 septembre : bulletin d’inscription et règlement par chèque à l’ordre de « Athlétisme Six Fours » à renvoyer à : Christian Navarro\, immeuble le Fortune\, 430 av. Laënnec 83140 Six Fours les Plages. \nA Decathlon Ollioules jusqu’au 29 septembre 18h. \nAthlétisme Six Fours  06 03 22 56 10
URL:https://lepetitvarois.fr/event/trail-du-cap-sicie/
CATEGORIES:Six-Fours
ATTACH;FMTTYPE=image/jpeg:https://lepetitvarois.fr/wp-content/uploads/2018/04/race-1503361_960_720.jpg
END:VEVENT
BEGIN:VEVENT
DTSTART;TZID=Europe/Paris:20180930T090000
DTEND;TZID=Europe/Paris:20180930T180000
DTSTAMP:20260421T173305
CREATED:20180901T194929Z
LAST-MODIFIED:20180901T194929Z
UID:7094-1538298000-1538330400@lepetitvarois.fr
SUMMARY:Journée Promotionnelle Handisport - 9è édition
DESCRIPTION:Journée Promotionnelle Handisport – 9è édition de 9h à 18h.\nIle des Embiez. SIX FOURS\nActivités sportives et handicap tout au long de la journée. \nL’inscription aux activités est réservée aux personnes porteuses de handicap (quelqu’il soit).  \nMatin (9h-12h) Initiations et démonstrations de : handibasket et handitennis\, handbike\, handistep ftt\, balade boussole découverte\, tandem pour handicapés visuels\, découverte des embiez en joëlette. Tour des Embiez en petit train (payant).  \nActivités nautiques : kayak\, voilier toute la journée et plongée le matin. \nA 13h30 concours de pétanque open en triplettes et poursuite activités voile kayak.  \n16h30 remise des prix du concours de pétanque.  \n> Gratuit. Inscriptions avant le 23 septembre 2018. La gratuité des passages en bateau est assurée pour la personne handicapée et son ou ses accompagnateurs. \nSix Fours Handisport 04 94 74 29 49 / 06 33 61 95 80
URL:https://lepetitvarois.fr/event/journee-promotionnelle-handisport-9e-edition/
CATEGORIES:Six-Fours
ATTACH;FMTTYPE=image/jpeg:https://lepetitvarois.fr/wp-content/uploads/2018/07/beach-volleyball-1617093_960_720.jpg
END:VEVENT
END:VCALENDAR