BEGIN:VCALENDAR
VERSION:2.0
PRODID:-//Le Petit Varois.Fr - ECPv6.0.10//NONSGML v1.0//EN
CALSCALE:GREGORIAN
METHOD:PUBLISH
X-ORIGINAL-URL:https://lepetitvarois.fr
X-WR-CALDESC:évènements pour Le Petit Varois.Fr
REFRESH-INTERVAL;VALUE=DURATION:PT1H
X-Robots-Tag:noindex
X-PUBLISHED-TTL:PT1H
BEGIN:VTIMEZONE
TZID:Europe/Paris
BEGIN:DAYLIGHT
TZOFFSETFROM:+0100
TZOFFSETTO:+0200
TZNAME:CEST
DTSTART:20180325T010000
END:DAYLIGHT
BEGIN:STANDARD
TZOFFSETFROM:+0200
TZOFFSETTO:+0100
TZNAME:CET
DTSTART:20181028T010000
END:STANDARD
END:VTIMEZONE
BEGIN:VEVENT
DTSTART;VALUE=DATE:20181005
DTEND;VALUE=DATE:20181007
DTSTAMP:20260421T155954
CREATED:20181001T154817Z
LAST-MODIFIED:20181001T154817Z
UID:7450-1538697600-1538870399@lepetitvarois.fr
SUMMARY:6e salon des jeunes seniors actifs
DESCRIPTION:6e salon des jeunes seniors actifs de 9h30 à 18h.\nEspace culturel André Malraux\, 100 av. de Lattre de Tassigny. SIX FOURS\nCe Salon sera un lieu d’informations\, de rencontres et d’échanges pour aménager sa nouvelle vie (après 50 ans et à la retraite). Venez découvrir des nouveautés\, faire le plein d’idées\, trouver les informations utiles pour vos projets\, loisirs\, temps libre et rencontrer les meilleurs experts dans les secteurs suivants tels que le Patrimoine\, la Retraite\, l’Habitat\, le Confort\, la Rénovation\, les droits\, les Formations\, l’Emploi\, Assurances\, Santé\, Voyages\, \nLoisirs\, Mieux Vivre\, Sport\, Bien-Être… et bien d’autres thèmes intéressants relatifs aux Seniors. \nExposants et Artisans du Salon : \nNouveaux Constructeurs\, Urbat promotion\, Agence Immobilière\, Air 83 \nClimatisation\, Provence Alu Pvc\, I Vizion sécurité\, Agence de Voyages \nContrastes \, Croisières Costa et Voyagiste Fram\, Technilec électricité domotique\, Pépinières Jardin du Sud\, Agence Meilleur Taux\, Mutuelle Emoa\, CCAS Ville de Six Fours\, Fitness Fun Energy sport\, Sophrologue P. Sevrin\, Hypnothérapeute LDM\, Cuisine Nomade Mama’s cook\, La Gamelle du Midi livraison repas\, I.Mitsu \ncéramiste potier\, Fruits secs Bio\, les Déballeuses animation/vente Vintage\, Artiste dessinatrice Va’a Ellen C\, Nathensac créatrice de Sacs\, produits ménagers Texam et bien d’autres….\n> Entrée libre.\nAssociation Provence Méditerranée Evènements 07 62 80 90 08
URL:https://lepetitvarois.fr/event/6e-salon-des-jeunes-seniors-actifs/
CATEGORIES:Six-Fours
ATTACH;FMTTYPE=image/jpeg:https://lepetitvarois.fr/wp-content/uploads/2018/05/old-people-753591_960_720.jpg
END:VEVENT
BEGIN:VEVENT
DTSTART;TZID=Europe/Paris:20181006T080000
DTEND;TZID=Europe/Paris:20181006T113000
DTSTAMP:20260421T155954
CREATED:20181001T154914Z
LAST-MODIFIED:20181001T154914Z
UID:7452-1538812800-1538825400@lepetitvarois.fr
SUMMARY:Brocante
DESCRIPTION:Brocante de 8h à 11h30.\nSecours Catholique\, 40 Boucle du Stade. SIX FOURS\nChaque mois\, venez faire un tour à la brocante du Secours Catholique. Venez faire des affaires : vêtements hommes\, femmes\, enfants à partir de 0\,50 €\, chaussures\, jouets\, petits appareils ménagers… \n> Accès libre.\nSecours Catholique 04 94 34 26 32
URL:https://lepetitvarois.fr/event/brocante-3/
CATEGORIES:Six-Fours
ATTACH;FMTTYPE=image/jpeg:https://lepetitvarois.fr/wp-content/uploads/2018/06/flea-market-1883693_960_720.jpg
END:VEVENT
BEGIN:VEVENT
DTSTART;TZID=Europe/Paris:20181006T203000
DTEND;TZID=Europe/Paris:20181006T233000
DTSTAMP:20260421T155954
CREATED:20181001T155504Z
LAST-MODIFIED:20181001T155504Z
UID:7460-1538857800-1538868600@lepetitvarois.fr
SUMMARY:Fest Noz
DESCRIPTION:Fest Noz animé par les musiciens des groupes Gouëlands et Da Bep Lec’h avec la participation des chanteuses de Spered Mat et des sonneurs de l’Amicale des Enfants de Bretagne à 20h30.\nSalle Scarantino\, 45 rue du Stade. SIX FOURS\nRestauration dès 20h (galettes\, crêpes\, cidre\, buvette). \n> 8 € / Gratuit pour les -12 ans.\nAmicale des Enfants de Bretagne dans le Var 04 94 88 63 58
URL:https://lepetitvarois.fr/event/fest-noz/
CATEGORIES:Six-Fours
ATTACH;FMTTYPE=image/jpeg:https://lepetitvarois.fr/wp-content/uploads/2018/06/concert-896786_960_720.jpg
END:VEVENT
END:VCALENDAR