BEGIN:VCALENDAR
VERSION:2.0
PRODID:-//Le Petit Varois.Fr - ECPv6.0.10//NONSGML v1.0//EN
CALSCALE:GREGORIAN
METHOD:PUBLISH
X-ORIGINAL-URL:https://lepetitvarois.fr
X-WR-CALDESC:évènements pour Le Petit Varois.Fr
REFRESH-INTERVAL;VALUE=DURATION:PT1H
X-Robots-Tag:noindex
X-PUBLISHED-TTL:PT1H
BEGIN:VTIMEZONE
TZID:Europe/Paris
BEGIN:DAYLIGHT
TZOFFSETFROM:+0100
TZOFFSETTO:+0200
TZNAME:CEST
DTSTART:20180325T010000
END:DAYLIGHT
BEGIN:STANDARD
TZOFFSETFROM:+0200
TZOFFSETTO:+0100
TZNAME:CET
DTSTART:20181028T010000
END:STANDARD
END:VTIMEZONE
BEGIN:VEVENT
DTSTART;TZID=Europe/Paris:20181012T200000
DTEND;TZID=Europe/Paris:20181012T223000
DTSTAMP:20260421T160126
CREATED:20181003T210838Z
LAST-MODIFIED:20181003T210838Z
UID:7508-1539374400-1539383400@lepetitvarois.fr
SUMMARY:Projection de cartes postales et vieilles photos de Six Fours
DESCRIPTION:Projection de cartes postales et vieilles photos de Six Fours à 20h.\nEspace culturel André Malraux\, 100 av. de Lattre de Tassigny. SIX FOURS\nVotre vile vous intéresse ? Vous aimeriez découvrir son histoire et son évolution au fil des époques ? André Mercheyer vous invite à parcourir le Six Fours d’hier à aujourd’hui au travers de cartes postales et de vieilles photos. Venez nombreux partager ce moment convivial.\n> Participation libre.\nService communication 04 94 34 93 50 www.ville-six-fours.fr
URL:https://lepetitvarois.fr/event/projection-de-cartes-postales-et-vieilles-photos-de-six-fours/
CATEGORIES:Six-Fours
ATTACH;FMTTYPE=image/jpeg:https://lepetitvarois.fr/wp-content/uploads/2018/08/39960783_1903005653113228_5470421947093352448_o.jpg
END:VEVENT
END:VCALENDAR