BEGIN:VCALENDAR
VERSION:2.0
PRODID:-//Le Petit Varois.Fr - ECPv6.0.10//NONSGML v1.0//EN
CALSCALE:GREGORIAN
METHOD:PUBLISH
X-ORIGINAL-URL:https://lepetitvarois.fr
X-WR-CALDESC:évènements pour Le Petit Varois.Fr
REFRESH-INTERVAL;VALUE=DURATION:PT1H
X-Robots-Tag:noindex
X-PUBLISHED-TTL:PT1H
BEGIN:VTIMEZONE
TZID:Europe/Paris
BEGIN:DAYLIGHT
TZOFFSETFROM:+0100
TZOFFSETTO:+0200
TZNAME:CEST
DTSTART:20180325T010000
END:DAYLIGHT
BEGIN:STANDARD
TZOFFSETFROM:+0200
TZOFFSETTO:+0100
TZNAME:CET
DTSTART:20181028T010000
END:STANDARD
END:VTIMEZONE
BEGIN:VEVENT
DTSTART;TZID=Europe/Paris:20181019T133000
DTEND;TZID=Europe/Paris:20181019T170000
DTSTAMP:20260421T160100
CREATED:20181004T083426Z
LAST-MODIFIED:20181004T083426Z
UID:7541-1539955800-1539968400@lepetitvarois.fr
SUMMARY:Concours de boules
DESCRIPTION:Concours de boules à 13h30.\nSquare Marcel Pagnol\, bd des Ecoles\, Les Lônes. SIX FOURS\n> 5 € adhérents / 7 € non adhérents.\nLes Lônes mon village (Association)  07 86 13 44 31
URL:https://lepetitvarois.fr/event/concours-de-boules-2/
CATEGORIES:Six-Fours
ATTACH;FMTTYPE=image/jpeg:https://lepetitvarois.fr/wp-content/uploads/2018/06/bocce-690636_960_720.jpg
END:VEVENT
BEGIN:VEVENT
DTSTART;TZID=Europe/Paris:20181019T180000
DTEND;TZID=Europe/Paris:20181019T210000
DTSTAMP:20260421T160100
CREATED:20181004T083522Z
LAST-MODIFIED:20181004T083522Z
UID:7543-1539972000-1539982800@lepetitvarois.fr
SUMMARY:Conférence sur la transhumance en Provence
DESCRIPTION:Conférence sur la transhumance en Provence animée par Raoul Decugis à 18h.\nMaison du Patrimoine\, corniche des Iles Paul Ricard\, Le Brusc. SIX FOURS\nLa transhumance présente un intérêt économique et écologique important. Rien à voir avec l’aspect folklorique proposé de nos jours : une fête très souvent commerciale comme tant d’autres. Cette activité propre à la Provence remonte à la nuit des temps.\n> Gratuit. Libre participation\, verre de l’amitié et douceurs offerts.\nAssociation Matriochka 06 70 09 01 80
URL:https://lepetitvarois.fr/event/conference-sur-la-transhumance-en-provence/
CATEGORIES:Six-Fours
ATTACH;FMTTYPE=image/jpeg:https://lepetitvarois.fr/wp-content/uploads/2018/02/startup-594090_960_720.jpg
END:VEVENT
END:VCALENDAR