BEGIN:VCALENDAR
VERSION:2.0
PRODID:-//Le Petit Varois.Fr - ECPv6.0.10//NONSGML v1.0//EN
CALSCALE:GREGORIAN
METHOD:PUBLISH
X-ORIGINAL-URL:https://lepetitvarois.fr
X-WR-CALDESC:évènements pour Le Petit Varois.Fr
REFRESH-INTERVAL;VALUE=DURATION:PT1H
X-Robots-Tag:noindex
X-PUBLISHED-TTL:PT1H
BEGIN:VTIMEZONE
TZID:Europe/Paris
BEGIN:DAYLIGHT
TZOFFSETFROM:+0100
TZOFFSETTO:+0200
TZNAME:CEST
DTSTART:20180325T010000
END:DAYLIGHT
BEGIN:STANDARD
TZOFFSETFROM:+0200
TZOFFSETTO:+0100
TZNAME:CET
DTSTART:20181028T010000
END:STANDARD
END:VTIMEZONE
BEGIN:VEVENT
DTSTART;TZID=Europe/Paris:20181104T080000
DTEND;TZID=Europe/Paris:20181104T163000
DTSTAMP:20260421T142542
CREATED:20181028T092109Z
LAST-MODIFIED:20181028T092109Z
UID:7841-1541318400-1541349000@lepetitvarois.fr
SUMMARY:Vide-greniers
DESCRIPTION:Vide-greniers de 8h à 16h.\nContre-allée de Lattre de Tassigny. SIX FOURS\n> 20 € l’emplacement sur réservation.\nRéveil Six Fournais  06 51 75 36 84
URL:https://lepetitvarois.fr/event/vide-greniers-5/
CATEGORIES:Six-Fours
ATTACH;FMTTYPE=image/jpeg:https://lepetitvarois.fr/wp-content/uploads/2018/03/easter-3263657_960_720.jpg
END:VEVENT
BEGIN:VEVENT
DTSTART;TZID=Europe/Paris:20181104T090000
DTEND;TZID=Europe/Paris:20181104T113000
DTSTAMP:20260421T142542
CREATED:20181028T092226Z
LAST-MODIFIED:20181028T092226Z
UID:7843-1541322000-1541331000@lepetitvarois.fr
SUMMARY:Stage de self-défense au Féminin
DESCRIPTION:Stage de self-défense au Féminin de 9h30 à 11h30.\nGymnase Reynier\, rue du Collège. SIX FOURS\nTechniques d’auto-défense adaptées aux femmes de tout âge\, pour gérer et éviter les situations dangereuses et réagir en toutes circonstances.  \n> 15 € au profit de l’Association « Un Dojo pour Réo ». \nAssociation Un Dojo pour Réo 06 03 48 07 88
URL:https://lepetitvarois.fr/event/stage-de-self-defense-au-feminin/
CATEGORIES:Six-Fours
ATTACH;FMTTYPE=image/jpeg:https://lepetitvarois.fr/wp-content/uploads/2018/02/aikido-362959_960_720.jpg
END:VEVENT
BEGIN:VEVENT
DTSTART;TZID=Europe/Paris:20181104T160000
DTEND;TZID=Europe/Paris:20181104T180000
DTSTAMP:20260421T142542
CREATED:20181028T093209Z
LAST-MODIFIED:20181028T093209Z
UID:7849-1541347200-1541354400@lepetitvarois.fr
SUMMARY:Concert privé de Soprano en direct
DESCRIPTION:Concert privé de Soprano en direct à 16h.\nCinéma Six n’Etoiles\, 48 rue de la République. SIX FOURS\nSoprano en concert privé dans votre cinéma en direct depuis le CGR Paris Lilas et diffusé au cinéma dans toute la France. \nCinéma Six n’étoiles 04 94 26 58 48
URL:https://lepetitvarois.fr/event/concert-prive-de-soprano-en-direct/
CATEGORIES:Six-Fours
ATTACH;FMTTYPE=image/jpeg:https://lepetitvarois.fr/wp-content/uploads/2018/08/concert-1209323_960_720.jpg
END:VEVENT
BEGIN:VEVENT
DTSTART;TZID=Europe/Paris:20181104T160000
DTEND;TZID=Europe/Paris:20181104T180000
DTSTAMP:20260421T142542
CREATED:20181028T093448Z
LAST-MODIFIED:20181028T093448Z
UID:7851-1541347200-1541354400@lepetitvarois.fr
SUMMARY:Loto au profit du Téléthon
DESCRIPTION:Loto au profit du Téléthon à 18h.\nCercle des Playes\, av. de la Calade. SIX FOURS\n> 5 € le carton.\nComité des fêtes des Playes 06 69 41 32 64
URL:https://lepetitvarois.fr/event/loto-au-profit-du-telethon/
CATEGORIES:Six-Fours
ATTACH;FMTTYPE=image/jpeg:https://lepetitvarois.fr/wp-content/uploads/2018/08/competition-3061509_960_720.jpg
END:VEVENT
END:VCALENDAR