BEGIN:VCALENDAR
VERSION:2.0
PRODID:-//Le Petit Varois.Fr - ECPv6.0.10//NONSGML v1.0//EN
CALSCALE:GREGORIAN
METHOD:PUBLISH
X-ORIGINAL-URL:https://lepetitvarois.fr
X-WR-CALDESC:évènements pour Le Petit Varois.Fr
REFRESH-INTERVAL;VALUE=DURATION:PT1H
X-Robots-Tag:noindex
X-PUBLISHED-TTL:PT1H
BEGIN:VTIMEZONE
TZID:Europe/Paris
BEGIN:DAYLIGHT
TZOFFSETFROM:+0100
TZOFFSETTO:+0200
TZNAME:CEST
DTSTART:20180325T010000
END:DAYLIGHT
BEGIN:STANDARD
TZOFFSETFROM:+0200
TZOFFSETTO:+0100
TZNAME:CET
DTSTART:20181028T010000
END:STANDARD
END:VTIMEZONE
BEGIN:VEVENT
DTSTART;TZID=Europe/Paris:20181106T150000
DTEND;TZID=Europe/Paris:20181106T170000
DTSTAMP:20260421T142548
CREATED:20181028T094020Z
LAST-MODIFIED:20181028T094020Z
UID:7857-1541516400-1541523600@lepetitvarois.fr
SUMMARY:"Le monument commémoratif et une famille de Six Fours dans la Grande Gerre\, la famille Féraud"
DESCRIPTION:Conférence « Le monument commémoratif eet une famille de Six Fours dans la Grande Gerre\, la famille Féraud » dans le cadre de l’exposition « Traces et mémoires de la Grande Guerre à Six Fours » et animée par Claude Majastre à 15h.\nThéâtre Daudet\, 100 av. du Maréchal de Lattre De Tassigny. SIX FOURS\n> Entrée libre.\nHistoire et Patrimoine Seynois (Association) 04 94 62 85 34
URL:https://lepetitvarois.fr/event/le-monument-commemoratif-et-une-famille-de-six-fours-dans-la-grande-gerre-la-famille-feraud/
CATEGORIES:Six-Fours
ATTACH;FMTTYPE=image/png:https://lepetitvarois.fr/wp-content/uploads/2018/09/Capture-d’écran-2018-09-26-à-21.48.38.png
END:VEVENT
END:VCALENDAR