BEGIN:VCALENDAR
VERSION:2.0
PRODID:-//Le Petit Varois.Fr - ECPv6.0.10//NONSGML v1.0//EN
CALSCALE:GREGORIAN
METHOD:PUBLISH
X-ORIGINAL-URL:https://lepetitvarois.fr
X-WR-CALDESC:évènements pour Le Petit Varois.Fr
REFRESH-INTERVAL;VALUE=DURATION:PT1H
X-Robots-Tag:noindex
X-PUBLISHED-TTL:PT1H
BEGIN:VTIMEZONE
TZID:Europe/Paris
BEGIN:DAYLIGHT
TZOFFSETFROM:+0100
TZOFFSETTO:+0200
TZNAME:CEST
DTSTART:20180325T010000
END:DAYLIGHT
BEGIN:STANDARD
TZOFFSETFROM:+0200
TZOFFSETTO:+0100
TZNAME:CET
DTSTART:20181028T010000
END:STANDARD
END:VTIMEZONE
BEGIN:VEVENT
DTSTART;VALUE=DATE:20181109
DTEND;VALUE=DATE:20181112
DTSTAMP:20260421T142853
CREATED:20181028T095802Z
LAST-MODIFIED:20181028T095802Z
UID:7876-1541721600-1541980799@lepetitvarois.fr
SUMMARY:Foire aux skis
DESCRIPTION:Foire aux skis\nVendredi et samedi 9h-19h\, dimanche 9h-12h. Esplanade du Verger. SIX FOURS\nIl s’y vend du matériel neuf et du matériel d’occasion\, que vous pouvez mettre en dépôt vente. \n> Accès libre.\nSki club de Six Fours 06 18 00 11 77
URL:https://lepetitvarois.fr/event/foire-aux-skis/
CATEGORIES:Six-Fours
ATTACH;FMTTYPE=image/jpeg:https://lepetitvarois.fr/wp-content/uploads/2018/10/ski-932188_960_720.jpg
END:VEVENT
BEGIN:VEVENT
DTSTART;TZID=Europe/Paris:20181109T163000
DTEND;TZID=Europe/Paris:20181109T170000
DTSTAMP:20260421T142853
CREATED:20181028T095316Z
LAST-MODIFIED:20181028T095316Z
UID:7872-1541781000-1541782800@lepetitvarois.fr
SUMMARY:Cinéma "Au revoir Là-Haut"
DESCRIPTION:Cinéma « Au revoir Là-Haut » d’Albert Dupontel à 18h45.\nCinéma Six n’Etoiles\, 48 rue de la République. SIX FOURS\nSéance offerte par la mairie de Six-Fours dans le cadre du centenaire de la fin de la Première guerre mondiale. \n> Entrée libre sur réservation dans la limite des places disponibles.\nCinéma Six n’étoiles 04 94 26 58 48
URL:https://lepetitvarois.fr/event/cinema-au-revoir-la-haut/
CATEGORIES:Six-Fours
ATTACH;FMTTYPE=image/png:https://lepetitvarois.fr/wp-content/uploads/2018/09/Capture-d’écran-2018-09-26-à-21.51.09.png
END:VEVENT
END:VCALENDAR