BEGIN:VCALENDAR
VERSION:2.0
PRODID:-//Le Petit Varois.Fr - ECPv6.0.10//NONSGML v1.0//EN
CALSCALE:GREGORIAN
METHOD:PUBLISH
X-ORIGINAL-URL:https://lepetitvarois.fr
X-WR-CALDESC:évènements pour Le Petit Varois.Fr
REFRESH-INTERVAL;VALUE=DURATION:PT1H
X-Robots-Tag:noindex
X-PUBLISHED-TTL:PT1H
BEGIN:VTIMEZONE
TZID:Europe/Paris
BEGIN:DAYLIGHT
TZOFFSETFROM:+0100
TZOFFSETTO:+0200
TZNAME:CEST
DTSTART:20180325T010000
END:DAYLIGHT
BEGIN:STANDARD
TZOFFSETFROM:+0200
TZOFFSETTO:+0100
TZNAME:CET
DTSTART:20181028T010000
END:STANDARD
END:VTIMEZONE
BEGIN:VEVENT
DTSTART;VALUE=DATE:20181112
DTEND;VALUE=DATE:20181114
DTSTAMP:20260421T142755
CREATED:20181029T110108Z
LAST-MODIFIED:20181029T110108Z
UID:7917-1541980800-1542153599@lepetitvarois.fr
SUMMARY:17e festival de cinéma portraits de femmes "Les unes et les autres"
DESCRIPTION:17e festival de cinéma portraits de femmes « Les unes et les autres »\nCinéma Six n’Etoiles\, 48 rue de la République. SIX FOURS\nLundi 12 :  \n19h30\, présentation du festival. \n20h30 « La permission » de Soheil Beiraghi (Avant première) \nEn Iran au moment d’embarquer pour la Malaisie\, la capitaine de foot doit obtenir l’autorisation de son mari. Mardi 13 :  \n18h « Zimna Wojna » de Pawel Pawlikowski \n1950\, Histoire d’un amour impossible dans une époque Impossible… \n20h30 « Les chatouilles » de Bescond & Metayer \nOdette 8 ans aime la danse. Pourquoi se méfierait-elle d’un ami de ses parents ? \n> 2 € les séances scolaires / 6\,50 € 1 film / 18 € pour 5 films au choix + 7 € soirée de clôture / 10 € soirée de clôture. Réservation conseillée.\nRéservation à La Seyne : le Transbordeur\, 32 av. Gambetta – 04 94 10 52 11\nRéservation à Six Fours : voir et entendre\, 126 av. Laennec – 04 94 26 38 19\nRéservation à Sanary : optique photo Meucci\, 4 rue Félix Pijeaud – 04 94 74 17 58\nLes Chantiers du Cinéma 04 94 09 05 31 / 06 14 82 24 18
URL:https://lepetitvarois.fr/event/17e-festival-de-cinema-portraits-de-femmes-les-unes-et-les-autres/
CATEGORIES:Six-Fours
ATTACH;FMTTYPE=image/jpeg:https://lepetitvarois.fr/wp-content/uploads/2018/10/fashion-2309519_960_720.jpg
END:VEVENT
BEGIN:VEVENT
DTSTART;TZID=Europe/Paris:20181113T210000
DTEND;TZID=Europe/Paris:20181113T230000
DTSTAMP:20260421T142755
CREATED:20181029T110250Z
LAST-MODIFIED:20181029T110250Z
UID:7920-1542142800-1542150000@lepetitvarois.fr
SUMMARY:Cinéma : soirée spéciale "Les animaux fantastiques"
DESCRIPTION:Cinéma : soirée spéciale « Les animaux fantastiques »\nCinéma Six n’Etoiles\, 48 rue de la République. SIX FOURS\nProjection du 1er volet à 18h30 suivi de l’avant-première du second volet à 21h15. \n> Tarifs habituels du cinéma / 5\,90 € prix privilège office de tourisme.\nCinéma Six n’étoiles 04 94 26 58 48 www.sixnetoiles.fr
URL:https://lepetitvarois.fr/event/cinema-soiree-speciale-les-animaux-fantastiques/
CATEGORIES:Six-Fours
ATTACH;FMTTYPE=image/jpeg:https://lepetitvarois.fr/wp-content/uploads/2018/10/images.jpeg
END:VEVENT
END:VCALENDAR