BEGIN:VCALENDAR
VERSION:2.0
PRODID:-//Le Petit Varois.Fr - ECPv6.0.10//NONSGML v1.0//EN
CALSCALE:GREGORIAN
METHOD:PUBLISH
X-WR-CALNAME:Le Petit Varois.Fr
X-ORIGINAL-URL:https://lepetitvarois.fr
X-WR-CALDESC:évènements pour Le Petit Varois.Fr
REFRESH-INTERVAL;VALUE=DURATION:PT1H
X-Robots-Tag:noindex
X-PUBLISHED-TTL:PT1H
BEGIN:VTIMEZONE
TZID:Europe/Paris
BEGIN:DAYLIGHT
TZOFFSETFROM:+0100
TZOFFSETTO:+0200
TZNAME:CEST
DTSTART:20180325T010000
END:DAYLIGHT
BEGIN:STANDARD
TZOFFSETFROM:+0200
TZOFFSETTO:+0100
TZNAME:CET
DTSTART:20181028T010000
END:STANDARD
END:VTIMEZONE
BEGIN:VEVENT
DTSTART;TZID=Europe/Paris:20181114T183000
DTEND;TZID=Europe/Paris:20181114T200000
DTSTAMP:20260421T142351
CREATED:20181029T110846Z
LAST-MODIFIED:20181029T110846Z
UID:7925-1542220200-1542225600@lepetitvarois.fr
SUMMARY:Conversation anglaise
DESCRIPTION:Conversation anglaise de 18h30 à 20h.\nLe Mont Salva\, ch. du Mont Salva\, Le Brusc. SIX FOURS\nConversation en présence d’une enseignante d’anglais. Ouvert à tous\, débutants ou confirmés de 7 à 77 ans et plus. \nL’objectif étant de pratiquer la langue anglaise dans une ambiance et un cadre sympathique. \n> Gratuit. Il est juste demandé aux personnes présentes de bien vouloir consommer sur place 3 € (prix d’une boisson). \nSix-Fours English 06 98 46 27 65
URL:https://lepetitvarois.fr/event/conversation-anglaise-7/
CATEGORIES:Six-Fours
ATTACH;FMTTYPE=image/jpeg:https://lepetitvarois.fr/wp-content/uploads/2018/04/american-1209605_960_720.jpg
END:VEVENT
BEGIN:VEVENT
DTSTART;TZID=Europe/Paris:20181114T203000
DTEND;TZID=Europe/Paris:20181114T233000
DTSTAMP:20260421T142351
CREATED:20181029T111221Z
LAST-MODIFIED:20181029T111221Z
UID:7927-1542227400-1542238200@lepetitvarois.fr
SUMMARY:Concert de Kadavar et Monolord (Hard Rock / Psyché)
DESCRIPTION:Concert de Kadavar et Monolord (Hard Rock / Psyché) à 20h30.\nEspace culturel André Malraux\, 100 av. de Lattre de Tassigny. SIX FOURS\nUn hard-rock à l’ancienne direct et sans bavure\, un son primitif et brut chargé en riffs bien costauds et empreint d’un psychédélisme exacerbé.  \nKadavar \nFormé en 2010 et originaire de Berlin\, Kadavar aime Black Sabbath\, Led Zeppelin et Hawkwind. A travers ses albums le groupe témoigne de sa passion pour les années 70\, le Hard-Rock à l’ancienne et le psychédélisme. \nSon dernier album en date « Berlin »\, sorti en 2015\, est un opus véritablement saisissant\, direct et sans bavure. Côté production là aussi\, c’est efficace\, à l’ancienne\, avec un son qui craque\, une basse nettement mise en avant captant toute la saveur des années 70. Vous aimez le Stoner ? Le Rock occulte ? Il serait dommage de passer à côté de ce nouvel album. \nMonolord\nEn seulement 5 ans\, les Suédois de Monolord se sont taillés une réputation en or dans le monde ténébreux du doom. Une ascension fulgurante pour ce trio qui se cache derrière des mélodies incendiaires. Un mur de distorsion impénétrable qu’une voix envoûtante cherche à percer. Une pluie de bûches s’abat sur vos pauvres âmes perdues. Une onde surpuissante qui vous fera trembler. \n> Gratuit.\nEspace culturel André Malraux 04 94 74 77 79
URL:https://lepetitvarois.fr/event/concert-de-kadavar-et-monolord-hard-rock-psyche/
CATEGORIES:Six-Fours
ATTACH;FMTTYPE=image/jpeg:https://lepetitvarois.fr/wp-content/uploads/2018/08/concert-1209323_960_720.jpg
END:VEVENT
END:VCALENDAR