BEGIN:VCALENDAR
VERSION:2.0
PRODID:-//Le Petit Varois.Fr - ECPv6.0.10//NONSGML v1.0//EN
CALSCALE:GREGORIAN
METHOD:PUBLISH
X-WR-CALNAME:Le Petit Varois.Fr
X-ORIGINAL-URL:https://lepetitvarois.fr
X-WR-CALDESC:évènements pour Le Petit Varois.Fr
REFRESH-INTERVAL;VALUE=DURATION:PT1H
X-Robots-Tag:noindex
X-PUBLISHED-TTL:PT1H
BEGIN:VTIMEZONE
TZID:Europe/Paris
BEGIN:DAYLIGHT
TZOFFSETFROM:+0100
TZOFFSETTO:+0200
TZNAME:CEST
DTSTART:20180325T010000
END:DAYLIGHT
BEGIN:STANDARD
TZOFFSETFROM:+0200
TZOFFSETTO:+0100
TZNAME:CET
DTSTART:20181028T010000
END:STANDARD
END:VTIMEZONE
BEGIN:VEVENT
DTSTART;TZID=Europe/Paris:20181119T140000
DTEND;TZID=Europe/Paris:20181119T170000
DTSTAMP:20260421T142409
CREATED:20181029T115638Z
LAST-MODIFIED:20181029T115638Z
UID:7959-1542636000-1542646800@lepetitvarois.fr
SUMMARY:Connaissance du Monde "Mexique - le train aux pieds légers"
DESCRIPTION:Connaissance du Monde « Mexique – le train aux pieds légers » à 14h.\nCinéma Six n’Etoiles\, 48 rue de la République. SIX FOURS\nEn présence du réalisateur Miguel Coelho. \n> 9\,50 € tarif plein / 8 € tarif réduit / Gratuit pour les -12 ans accompagnés d’un parent. Tarifs de groupe pour les scolaires à la demande.\nCinéma Six n’étoiles 04 94 26 58 48
URL:https://lepetitvarois.fr/event/connaissance-du-monde-mexique-le-train-aux-pieds-legers/
CATEGORIES:Six-Fours
ATTACH;FMTTYPE=image/jpeg:https://lepetitvarois.fr/wp-content/uploads/2018/10/earth-1365995_960_720.jpg
END:VEVENT
BEGIN:VEVENT
DTSTART;TZID=Europe/Paris:20181119T150000
DTEND;TZID=Europe/Paris:20181119T170000
DTSTAMP:20260421T142409
CREATED:20181029T115908Z
LAST-MODIFIED:20181029T115908Z
UID:7962-1542639600-1542646800@lepetitvarois.fr
SUMMARY:Conférence "Les bombardements sur Toulon et sa région en 1943-1944"
DESCRIPTION:Conférence « Les bombardements sur Toulon et sa région en 1943-1944 » par René Ghiglione à 15h.\nThéâtre Daudet\, 100 av. du Maréchal de Lattre De Tassigny. SIX FOURS.\n> Entrée libre. \nVoyages loisirs culturels 04 94 88 64 45
URL:https://lepetitvarois.fr/event/conference-les-bombardements-sur-toulon-et-sa-region-en-1943-1944/
CATEGORIES:Six-Fours
ATTACH;FMTTYPE=image/jpeg:https://lepetitvarois.fr/wp-content/uploads/2018/08/39960783_1903005653113228_5470421947093352448_o.jpg
END:VEVENT
END:VCALENDAR