BEGIN:VCALENDAR
VERSION:2.0
PRODID:-//Le Petit Varois.Fr - ECPv6.0.10//NONSGML v1.0//EN
CALSCALE:GREGORIAN
METHOD:PUBLISH
X-ORIGINAL-URL:https://lepetitvarois.fr
X-WR-CALDESC:évènements pour Le Petit Varois.Fr
REFRESH-INTERVAL;VALUE=DURATION:PT1H
X-Robots-Tag:noindex
X-PUBLISHED-TTL:PT1H
BEGIN:VTIMEZONE
TZID:Europe/Paris
BEGIN:DAYLIGHT
TZOFFSETFROM:+0100
TZOFFSETTO:+0200
TZNAME:CEST
DTSTART:20180325T010000
END:DAYLIGHT
BEGIN:STANDARD
TZOFFSETFROM:+0200
TZOFFSETTO:+0100
TZNAME:CET
DTSTART:20181028T010000
END:STANDARD
END:VTIMEZONE
BEGIN:VEVENT
DTSTART;TZID=Europe/Paris:20181120T120000
DTEND;TZID=Europe/Paris:20181120T180000
DTSTAMP:20260421T142547
CREATED:20181029T120056Z
LAST-MODIFIED:20181029T120056Z
UID:7966-1542715200-1542736800@lepetitvarois.fr
SUMMARY:Repas dansant avec Marcel Musette\, animateur Dj
DESCRIPTION:Repas dansant avec Marcel Musette\, animateur Dj de 12h à 18h.\nSalle Scarantino\, 45 rue du Stade. SIX FOURS\nL’association Starmelody vous concocte un menu du chasseur : bruschetta campagnarde\, verrine du chef\, canapé forestier\, quiche aux champignons\, mini-brezel mousse de canard. Plat : daube de sanglier\, spaetzle. Formage et salade\, dessert et vin. \n> 28 € adhérent / 30 € non-adhérent. Réservation obligatoire.\nAssociation Starmelody 06 14 33 17 76
URL:https://lepetitvarois.fr/event/repas-dansant-avec-marcel-musette-animateur-dj/
CATEGORIES:Six-Fours
ATTACH;FMTTYPE=image/jpeg:https://lepetitvarois.fr/wp-content/uploads/2018/03/29186515_10214801611890622_7287313977976029184_o.jpg
END:VEVENT
END:VCALENDAR