BEGIN:VCALENDAR
VERSION:2.0
PRODID:-//Le Petit Varois.Fr - ECPv6.0.10//NONSGML v1.0//EN
CALSCALE:GREGORIAN
METHOD:PUBLISH
X-ORIGINAL-URL:https://lepetitvarois.fr
X-WR-CALDESC:évènements pour Le Petit Varois.Fr
REFRESH-INTERVAL;VALUE=DURATION:PT1H
X-Robots-Tag:noindex
X-PUBLISHED-TTL:PT1H
BEGIN:VTIMEZONE
TZID:Europe/Paris
BEGIN:DAYLIGHT
TZOFFSETFROM:+0100
TZOFFSETTO:+0200
TZNAME:CEST
DTSTART:20180325T010000
END:DAYLIGHT
BEGIN:STANDARD
TZOFFSETFROM:+0200
TZOFFSETTO:+0100
TZNAME:CET
DTSTART:20181028T010000
END:STANDARD
END:VTIMEZONE
BEGIN:VEVENT
DTSTART;VALUE=DATE:20181123
DTEND;VALUE=DATE:20181126
DTSTAMP:20260421T142702
CREATED:20181029T140408Z
LAST-MODIFIED:20181029T140424Z
UID:7989-1542931200-1543190399@lepetitvarois.fr
SUMMARY:Foire aux skis
DESCRIPTION:Foire aux skis\nVendredi et samedi 9h-19h\, dimanche 9h-12h. Esplanade du Verger. SIX FOURS\n> Accès libre. \nSki club de Six Fours 06 18 00 11 77
URL:https://lepetitvarois.fr/event/foire-aux-skis-2/
CATEGORIES:Six-Fours
ATTACH;FMTTYPE=image/jpeg:https://lepetitvarois.fr/wp-content/uploads/2018/10/ski-932188_960_720.jpg
END:VEVENT
BEGIN:VEVENT
DTSTART;TZID=Europe/Paris:20181124T200000
DTEND;TZID=Europe/Paris:20181124T233000
DTSTAMP:20260421T142702
CREATED:20181029T142420Z
LAST-MODIFIED:20181029T142420Z
UID:7996-1543089600-1543102200@lepetitvarois.fr
SUMMARY:Soirée italienne animée par l'orchestre Robert Piana
DESCRIPTION:Soirée italienne animée par l’orchestre Robert Piana à 20h.\nEspace culturel André Malraux\, 100 av. de Lattre de Tassigny. SIX FOURS\n> 30 €. Réservation obligatoire.\nAmicale Six Fournaise des Rapatriés 06 61 70 68 32 / 06 65 75 19 85  
URL:https://lepetitvarois.fr/event/soiree-italienne-animee-par-lorchestre-robert-piana/
CATEGORIES:Six-Fours
ATTACH;FMTTYPE=image/jpeg:https://lepetitvarois.fr/wp-content/uploads/2018/02/person-2248567_960_720.jpg
END:VEVENT
END:VCALENDAR