BEGIN:VCALENDAR
VERSION:2.0
PRODID:-//Le Petit Varois.Fr - ECPv6.0.10//NONSGML v1.0//EN
CALSCALE:GREGORIAN
METHOD:PUBLISH
X-WR-CALNAME:Le Petit Varois.Fr
X-ORIGINAL-URL:https://lepetitvarois.fr
X-WR-CALDESC:évènements pour Le Petit Varois.Fr
REFRESH-INTERVAL;VALUE=DURATION:PT1H
X-Robots-Tag:noindex
X-PUBLISHED-TTL:PT1H
BEGIN:VTIMEZONE
TZID:Europe/Paris
BEGIN:DAYLIGHT
TZOFFSETFROM:+0100
TZOFFSETTO:+0200
TZNAME:CEST
DTSTART:20180325T010000
END:DAYLIGHT
BEGIN:STANDARD
TZOFFSETFROM:+0200
TZOFFSETTO:+0100
TZNAME:CET
DTSTART:20181028T010000
END:STANDARD
END:VTIMEZONE
BEGIN:VEVENT
DTSTART;VALUE=DATE:20181216
DTEND;VALUE=DATE:20181217
DTSTAMP:20260421T164653
CREATED:20181202T112823Z
LAST-MODIFIED:20181202T112823Z
UID:8572-1544918400-1545004799@lepetitvarois.fr
SUMMARY:Animations de Noël au Brusc
DESCRIPTION:Animations de Noël au Brusc\nPort du Brusc. SIX FOURS \nArrivée du Père Noël en pointu sur le port du Brusc. \nDe nombreuses animations égayeront cette matinée : distribution de papillotes et bonbons\, photos avec les enfants sur le traîneau du Père Noël\, déambulation de figurines\, un manège enfantin\, musique et chants de Noël et animation musicale. Distribution de chocolat chaud\, vin chaud et castagnade. Trois stands avec des produits locaux de Noël.  \nComité de liaison des associations bruscaines
URL:https://lepetitvarois.fr/event/animations-de-noel-au-brusc/
CATEGORIES:Six-Fours
ATTACH;FMTTYPE=image/jpeg:https://lepetitvarois.fr/wp-content/uploads/2018/12/christmas-tree-3823674_960_720.jpg
END:VEVENT
BEGIN:VEVENT
DTSTART;VALUE=DATE:20181216
DTEND;VALUE=DATE:20181217
DTSTAMP:20260421T164653
CREATED:20181202T112912Z
LAST-MODIFIED:20181202T112912Z
UID:8574-1544918400-1545004799@lepetitvarois.fr
SUMMARY:Bourse aux jouets
DESCRIPTION:Bourse aux jouets de 8h à 16h.\nPort du Brusc\, quai Saint Pierre. SIX FOURS\n> 10 € l’emplacement sur réservation.\nKiwanis La Seyne Six Fours Saint Mandrier 04 94 34 07 58 / 06 70 45 59 32
URL:https://lepetitvarois.fr/event/bourse-aux-jouets-5/
CATEGORIES:Six-Fours
ATTACH;FMTTYPE=image/jpeg:https://lepetitvarois.fr/wp-content/uploads/2018/02/marbles-1659398_960_720.jpg
END:VEVENT
BEGIN:VEVENT
DTSTART;VALUE=DATE:20181216
DTEND;VALUE=DATE:20181217
DTSTAMP:20260421T164653
CREATED:20181202T113055Z
LAST-MODIFIED:20181202T113055Z
UID:8578-1544918400-1545004799@lepetitvarois.fr
SUMMARY:Animations de Noël
DESCRIPTION:Animations de Noël de 9h à 19h.\nCentre-ville. SIX FOURS\n9h-10h : les bravadeurs vous réveillent (présentation\, histoire et démonstration).\n10h-12h : spectacle de magie avec le « Magic Comedy Show » par Damien illusionniste.\n11h-12h : la Bravade de Six Fours (bravadeurs\, folklore\, animaux\, échassiers\, jongleurs).\n12h-14h : « C’est ça le Var »\, présentation de l’artisanat local (maroquinerie et céramique de Six Fours\, bière de Hyères\, nougats d’Ollioules…).\n14h-15h : spectacle « Haut les jongles ! ».\n15h-16h : spectacle « Histoire des histoires ».\n16h-17h : Les Pères Noëls motards se rassemblent.\n18h-19h : spectacle « Les Lumières de Noël ».\nAssociation des commerçants et artisans « Hello Six Fours » 04 94 25 60 05
URL:https://lepetitvarois.fr/event/animations-de-noel-2/
CATEGORIES:Six-Fours
ATTACH;FMTTYPE=image/jpeg:https://lepetitvarois.fr/wp-content/uploads/2018/12/christmas-bauble-1869989_960_720-2.jpg
END:VEVENT
END:VCALENDAR