BEGIN:VCALENDAR
VERSION:2.0
PRODID:-//Le Petit Varois.Fr - ECPv6.0.10//NONSGML v1.0//EN
CALSCALE:GREGORIAN
METHOD:PUBLISH
X-WR-CALNAME:Le Petit Varois.Fr
X-ORIGINAL-URL:https://lepetitvarois.fr
X-WR-CALDESC:évènements pour Le Petit Varois.Fr
REFRESH-INTERVAL;VALUE=DURATION:PT1H
X-Robots-Tag:noindex
X-PUBLISHED-TTL:PT1H
BEGIN:VTIMEZONE
TZID:Europe/Paris
BEGIN:DAYLIGHT
TZOFFSETFROM:+0100
TZOFFSETTO:+0200
TZNAME:CEST
DTSTART:20180325T010000
END:DAYLIGHT
BEGIN:STANDARD
TZOFFSETFROM:+0200
TZOFFSETTO:+0100
TZNAME:CET
DTSTART:20181028T010000
END:STANDARD
END:VTIMEZONE
BEGIN:VEVENT
DTSTART;TZID=Europe/Paris:20181217T150000
DTEND;TZID=Europe/Paris:20181217T170000
DTSTAMP:20260421T125122
CREATED:20181211T101438Z
LAST-MODIFIED:20181211T101438Z
UID:8766-1545058800-1545066000@lepetitvarois.fr
SUMMARY:Six-Fours d'"Antan et de nos jours"
DESCRIPTION:A partir de photos du siècle dernier\, une prise de vue du même endroit au XXIéme et un montage des deux par F.X Cuvelier – les commentaires accompagnant le diaporama seront d’Antoine Perreti et de serge Sappino. \nF.X Cuvelier (membre de l’association)\, a découvert et pratiqué dès son plus jeune âge\, la photographie dans la région nimoise. Après avoir beaucoup voyagé pour des raisons professionnelles en tant qu’ingénieur projets à Paris et dans la région PACA.il s’est installé dans notre région et plus précisemment dans une entreprise\, grossiste en fleurs à Hyères. Il a posé ses valises en Provence en 1996\, et habite Six-Fours-Les-Plages\, depuis 2013.\nMembre du Photo Club Carqueirannais depuis 2010\, il expose en moyenne 2 fois par an. Adhérent à la « Fédération Photographique de France »\, et participe depuis 2012 aux compétitions régionales et nationales. Plusieurs de ces clichés sont parus dans le « Magazine France photographie »
URL:https://lepetitvarois.fr/event/six-fours-dantan-et-de-nos-jours/
CATEGORIES:Six-Fours
ATTACH;FMTTYPE=image/png:https://lepetitvarois.fr/wp-content/uploads/2018/12/Capture-d’écran-2018-12-11-à-11.11.30.png
END:VEVENT
BEGIN:VEVENT
DTSTART;TZID=Europe/Paris:20181217T203000
DTEND;TZID=Europe/Paris:20181217T233000
DTSTAMP:20260421T125122
CREATED:20181202T113402Z
LAST-MODIFIED:20181202T113402Z
UID:8584-1545078600-1545089400@lepetitvarois.fr
SUMMARY:Projection du film "Leto" suivi d'un débat
DESCRIPTION:Projection du film « Leto » suivi d’un débat à 20h30.\nCinéma Six n’Etoiles\, 48 rue de la République. SIX FOURS\nL’Eté est un drame russe de Kirill Serebrennikov sur le jeune Viktor Tsoi et la culture rock underground de Leningrad\, au début des années 1980. Viktor Tsoi est mort en août 1990 à 28 ans dans un accident de voiture. Le film met en vedette la musique du groupe Kino et d’autres groupes rock russes comme Zoopark.\n> Tarifs habituels du Six N’étoiles. Tarifs abonnée pour les membres de l’association Lumières du Sud.\nLumière(s) du Sud 06 13 30 62 40
URL:https://lepetitvarois.fr/event/projection-du-film-leto-suivi-dun-debat/
CATEGORIES:Six-Fours
ATTACH;FMTTYPE=image/jpeg:https://lepetitvarois.fr/wp-content/uploads/2018/06/audience-828584_960_720.jpg
END:VEVENT
END:VCALENDAR