BEGIN:VCALENDAR
VERSION:2.0
PRODID:-//Le Petit Varois.Fr - ECPv6.0.10//NONSGML v1.0//EN
CALSCALE:GREGORIAN
METHOD:PUBLISH
X-WR-CALNAME:Le Petit Varois.Fr
X-ORIGINAL-URL:https://lepetitvarois.fr
X-WR-CALDESC:évènements pour Le Petit Varois.Fr
REFRESH-INTERVAL;VALUE=DURATION:PT1H
X-Robots-Tag:noindex
X-PUBLISHED-TTL:PT1H
BEGIN:VTIMEZONE
TZID:Europe/Paris
BEGIN:DAYLIGHT
TZOFFSETFROM:+0100
TZOFFSETTO:+0200
TZNAME:CEST
DTSTART:20190331T010000
END:DAYLIGHT
BEGIN:STANDARD
TZOFFSETFROM:+0200
TZOFFSETTO:+0100
TZNAME:CET
DTSTART:20191027T010000
END:STANDARD
END:VTIMEZONE
BEGIN:VEVENT
DTSTART;TZID=Europe/Paris:20190120T150000
DTEND;TZID=Europe/Paris:20190120T170000
DTSTAMP:20260421T111537
CREATED:20190108T145240Z
LAST-MODIFIED:20190108T145240Z
UID:8986-1547996400-1548003600@lepetitvarois.fr
SUMMARY:Loto du Comité des Fêtes de Six Fours
DESCRIPTION:Loto du Comité des Fêtes de Six Fours à 15h00 – Espace culturel André Malraux. Galette des rois et cidre offerts. De nombreux lots à gagner ! Venez nombreux. Comité officiel des fêtes – 06 62 03 11 96
URL:https://lepetitvarois.fr/event/loto-du-comite-des-fetes-de-six-fours/
CATEGORIES:Six-Fours
ATTACH;FMTTYPE=image/jpeg:https://lepetitvarois.fr/wp-content/uploads/2018/12/47146727_2408017149425928_791952447093342208_n.jpg
END:VEVENT
BEGIN:VEVENT
DTSTART;TZID=Europe/Paris:20190120T160000
DTEND;TZID=Europe/Paris:20190120T190000
DTSTAMP:20260421T111537
CREATED:20190108T145344Z
LAST-MODIFIED:20190108T145344Z
UID:8988-1548000000-1548010800@lepetitvarois.fr
SUMMARY:Concert Caritatif
DESCRIPTION:Par les chorales « La Canatrelle » du Revest et « Tutti Canti » de Carqueiranne à 16h00 – Eglise Sainte Anne. Chants sacré et variété française et d’ailleurs interprétés par ces deux chorales. Organisateur \nKiwanis La Seyne Six Fours Saint Mandrier – Port : 06 13 49 08 98
URL:https://lepetitvarois.fr/event/concert-caritatif/
CATEGORIES:Six-Fours
ATTACH;FMTTYPE=image/jpeg:https://lepetitvarois.fr/wp-content/uploads/2018/06/singer-579923_960_720.jpg
END:VEVENT
END:VCALENDAR