BEGIN:VCALENDAR
VERSION:2.0
PRODID:-//Le Petit Varois.Fr - ECPv6.0.10//NONSGML v1.0//EN
CALSCALE:GREGORIAN
METHOD:PUBLISH
X-WR-CALNAME:Le Petit Varois.Fr
X-ORIGINAL-URL:https://lepetitvarois.fr
X-WR-CALDESC:évènements pour Le Petit Varois.Fr
REFRESH-INTERVAL;VALUE=DURATION:PT1H
X-Robots-Tag:noindex
X-PUBLISHED-TTL:PT1H
BEGIN:VTIMEZONE
TZID:Europe/Paris
BEGIN:DAYLIGHT
TZOFFSETFROM:+0100
TZOFFSETTO:+0200
TZNAME:CEST
DTSTART:20190331T010000
END:DAYLIGHT
BEGIN:STANDARD
TZOFFSETFROM:+0200
TZOFFSETTO:+0100
TZNAME:CET
DTSTART:20191027T010000
END:STANDARD
END:VTIMEZONE
BEGIN:VEVENT
DTSTART;VALUE=DATE:20190207
DTEND;VALUE=DATE:20190216
DTSTAMP:20260421T094052
CREATED:20190201T205617Z
LAST-MODIFIED:20190201T205617Z
UID:9336-1549497600-1550275199@lepetitvarois.fr
SUMMARY:Festival international Sand et Chopin en Seyne 1ère édition hivernal
DESCRIPTION:Festival international Sand et Chopin en Seyne 1ère édition hivernal \nCasino Joa de LA SEYNE et Cinéma Six n’étoiles de SIX FOURS \nJeudi 7 à 20h30\, cinéma Six n’étoiles : projection du film « Le Roman de Marguerite Gautier » réalisé par Georges Cukor avec Greta Garbo et Lionel Barrymore. \nLundi 11 à 14h\, cinéma Six n’étoiles : ciné goûter « Le Piano magique » par Gabriel Jacquel\, Anne Kristin Berge et Martin Clapp.\n> 7\,90 € / 5\,90 € tarif festival (sur présentation d’un justificatif pour une soirée du festival 2019) / 6\,20 € tarif réduit (C.E.\, enseignants\, chômeurs\, étudiants\, jeunes) / 4 € tarif enfant -12 ans. Réservation conseillée. \nJeudi 14 à 17h30\, casino Joa : conférence « De Marie à Violetta\, d’Isidora à Marguerite : images de quelques courtisanes entre réalité et fiction » par Gilbert Paoli.\n> Entrée libre sur réservation au 06 10 89 75 23 / 04 94 94 18 91. \nJeudi 14 à 21h\, casino Joa : spectacle « Moi… la Traviata » avec Chrystelle Di Marco (soprano et comédienne) et Virginie Martineau (piano). \nVendredi 15 à 21h\, casino Joa : concert « Chopin et la Dame aux Camélias » avec Naruhiko Kawaguchi (piano) et Gabriel Boz (lecture)\n> 25 € / 20 € tarif réduit (C.E.\, enseignants\, chômeurs\, étudiants\, jeunes). 35 € carré or avec coupe de champagne. Réservation conseillée.\nCasino Joa 04 94 29 16 67 www.joa.fr/casinos/la-seyne / Cinéma Six n’étoiles 04 94 26 58 48
URL:https://lepetitvarois.fr/event/festival-international-sand-et-chopin-en-seyne-1ere-edition-hivernal/
CATEGORIES:La Seyne,Six-Fours
ATTACH;FMTTYPE=image/jpeg:https://lepetitvarois.fr/wp-content/uploads/2019/02/800x600_35733-ls_affiche_festival_sand_et_chopin_hivernal_7_au_15_fevrier19.jpg
END:VEVENT
BEGIN:VEVENT
DTSTART;TZID=Europe/Paris:20190210T103000
DTEND;TZID=Europe/Paris:20190210T120000
DTSTAMP:20260421T094052
CREATED:20190201T210157Z
LAST-MODIFIED:20190201T210157Z
UID:9343-1549794600-1549800000@lepetitvarois.fr
SUMMARY:Ciné p’tit déj "L’Odyssée de l’empathie"
DESCRIPTION:Ciné p’tit déj « L’Odyssée de l’empathie » à 10h30 (film + débat précédé d’un petit-déjeuner partagé).\nCinéma Six n’étoiles\, 48 rue de la République. SIX FOURS\n> Tarifs habituels du cinéma.\nCinéma Six n’étoiles 04 94 26 58 48
URL:https://lepetitvarois.fr/event/cine-ptit-dej-lodyssee-de-lempathie/
CATEGORIES:Six-Fours
ATTACH;FMTTYPE=image/jpeg:https://lepetitvarois.fr/wp-content/uploads/2018/10/cinema-64154_960_720.jpg
END:VEVENT
BEGIN:VEVENT
DTSTART;TZID=Europe/Paris:20190210T120000
DTEND;TZID=Europe/Paris:20190210T180000
DTSTAMP:20260421T094052
CREATED:20190201T210859Z
LAST-MODIFIED:20190201T210859Z
UID:9345-1549800000-1549821600@lepetitvarois.fr
SUMMARY:Starmelody fête la Saint Valentin avec Marcel Musette
DESCRIPTION:Starmelody fête la Saint Valentin avec Marcel Musette de 12h à 18h.\nSalle Scarantino\, 45 rue du Stade. SIX FOURS\n> 28 € adhérents / 30 € non-adhérents. Réservation obligatoire.\nAssociation Starmelody 06 14 33 17 76
URL:https://lepetitvarois.fr/event/starmelody-fete-la-saint-valentin-avec-marcel-musette/
CATEGORIES:Six-Fours
ATTACH;FMTTYPE=image/jpeg:https://lepetitvarois.fr/wp-content/uploads/2018/02/28125214_10214540808610703_2054004481_o.jpg
END:VEVENT
BEGIN:VEVENT
DTSTART;TZID=Europe/Paris:20190210T150000
DTEND;TZID=Europe/Paris:20190210T170000
DTSTAMP:20260421T094052
CREATED:20190201T211201Z
LAST-MODIFIED:20190201T211201Z
UID:9349-1549810800-1549818000@lepetitvarois.fr
SUMMARY:Bernard Phane présente Hypnose
DESCRIPTION:Bernard Phane présente Hypnose à 15h.\nThéâtre Daudet\, 100 av. du Maréchal de Lattre de Tassigny. SIX FOURS\nSpectacle au profit de l’association Bati Bati (Un battement de cœur  pour Tignère). \nEn 1ère partie\, spectacle d’hypnose classique et music hall et en 2e partie\, séance d’hypnothérapie. De l’hypnose de Music Hall à L’Hypnose thérapeutique\, Bernard Phane passionne les foules à travers un spectacle extraordinaire et mystérieux\, ou soigne ceux qui veulent faire confiance à leur pouvoir d’auto guérison.\n> 15 € / 10 € pour les -18 ans. Réservation obligatoire.\nAssociation Bati Bati  06 51 51 23 38 http://batibati.fr
URL:https://lepetitvarois.fr/event/bernard-phane-presente-hypnose/
CATEGORIES:Six-Fours
ATTACH;FMTTYPE=image/png:https://lepetitvarois.fr/wp-content/uploads/2019/02/Capture-d’écran-2019-01-19-à-21.23.42.png
END:VEVENT
BEGIN:VEVENT
DTSTART;TZID=Europe/Paris:20190210T183000
DTEND;TZID=Europe/Paris:20190210T203000
DTSTAMP:20260421T094052
CREATED:20190201T211357Z
LAST-MODIFIED:20190201T211357Z
UID:9354-1549823400-1549830600@lepetitvarois.fr
SUMMARY:Gala du Nouvel An Vietnamien "Têt Ky Hoi"
DESCRIPTION:Gala du Nouvel An Vietnamien « Têt Ky Hoi » de 18h30 à 23h30.\nEspace culturel André Malraux\, 100 av. de Lattre de Tassigny. SIX FOURS\nGrande soirée de gala avec spectacles traditionnelles et animations disco !.  \nAnimations : danses chorégraphiques traditionnelles\, danse de la licorne et arts martiaux. Vente de boissons et spécialités vietnamiennes sur place.\n> 20 € / 18 € adhérents / 10 € jeunes de 10 à 16 ans. Réservation obligatoire.\nAssociation Var Vietnam Passion 04 94 07 10 57
URL:https://lepetitvarois.fr/event/gala-du-nouvel-an-vietnamien-tet-ky-hoi/
CATEGORIES:Six-Fours
ATTACH;FMTTYPE=image/jpeg:https://lepetitvarois.fr/wp-content/uploads/2018/12/47341237_1133735390126005_7207194498395275264_n.jpg
END:VEVENT
END:VCALENDAR