BEGIN:VCALENDAR
VERSION:2.0
PRODID:-//Le Petit Varois.Fr - ECPv6.0.10//NONSGML v1.0//EN
CALSCALE:GREGORIAN
METHOD:PUBLISH
X-WR-CALNAME:Le Petit Varois.Fr
X-ORIGINAL-URL:https://lepetitvarois.fr
X-WR-CALDESC:évènements pour Le Petit Varois.Fr
REFRESH-INTERVAL;VALUE=DURATION:PT1H
X-Robots-Tag:noindex
X-PUBLISHED-TTL:PT1H
BEGIN:VTIMEZONE
TZID:Europe/Paris
BEGIN:DAYLIGHT
TZOFFSETFROM:+0100
TZOFFSETTO:+0200
TZNAME:CEST
DTSTART:20190331T010000
END:DAYLIGHT
BEGIN:STANDARD
TZOFFSETFROM:+0200
TZOFFSETTO:+0100
TZNAME:CET
DTSTART:20191027T010000
END:STANDARD
END:VTIMEZONE
BEGIN:VEVENT
DTSTART;TZID=Europe/Paris:20190220T183000
DTEND;TZID=Europe/Paris:20190220T200000
DTSTAMP:20260421T094023
CREATED:20190201T213013Z
LAST-MODIFIED:20190201T213013Z
UID:9376-1550687400-1550692800@lepetitvarois.fr
SUMMARY:Conversation anglaise
DESCRIPTION:Conversation anglaise de 18h30 à 20h.\nLe Mont Salva\, Chemin du Mont Salva\, Le Brusc. SIX FOURS\n> Gratuit. Consommation minimum de 3 €.\nSix-Fours English 06 98 46 27 65 masstguir@orange.fr
URL:https://lepetitvarois.fr/event/conversation-anglaise-10/
CATEGORIES:Six-Fours
ATTACH;FMTTYPE=image/jpeg:https://lepetitvarois.fr/wp-content/uploads/2018/04/american-1209605_960_720.jpg
END:VEVENT
END:VCALENDAR