BEGIN:VCALENDAR
VERSION:2.0
PRODID:-//Le Petit Varois.Fr - ECPv6.0.10//NONSGML v1.0//EN
CALSCALE:GREGORIAN
METHOD:PUBLISH
X-ORIGINAL-URL:https://lepetitvarois.fr
X-WR-CALDESC:évènements pour Le Petit Varois.Fr
REFRESH-INTERVAL;VALUE=DURATION:PT1H
X-Robots-Tag:noindex
X-PUBLISHED-TTL:PT1H
BEGIN:VTIMEZONE
TZID:Europe/Paris
BEGIN:DAYLIGHT
TZOFFSETFROM:+0100
TZOFFSETTO:+0200
TZNAME:CEST
DTSTART:20190331T010000
END:DAYLIGHT
BEGIN:STANDARD
TZOFFSETFROM:+0200
TZOFFSETTO:+0100
TZNAME:CET
DTSTART:20191027T010000
END:STANDARD
END:VTIMEZONE
BEGIN:VEVENT
DTSTART;TZID=Europe/Paris:20190304T140000
DTEND;TZID=Europe/Paris:20190304T170000
DTSTAMP:20260421T080739
CREATED:20190227T192017Z
LAST-MODIFIED:20190227T192017Z
UID:9696-1551708000-1551718800@lepetitvarois.fr
SUMMARY:Connaissance du monde "Afrique du Sud - le berceau de l'humanité"
DESCRIPTION:Connaissance du monde « Afrique du Sud – le berceau de l’humanité » à 14h.\nCinéma Six n’Etoiles\, 48 rue de la République. SIX FOURS\nL’Afrique du Sud\, berceau de l’humanité\, renferme les secrets de l’origine du genre humain. C’est là qu’a été découvert Little Foot\, le plus ancien fossile d’hominidé datant de 3\,7 millions d’années. \n> 9\,50 € tarif plein / 8 € tarif réduit / Gratuit pour les -12 ans accompagnés d’un parent.  \nRéservation 04 94 26 58 48 www.sixnetoiles.fr
URL:https://lepetitvarois.fr/event/connaissance-du-monde-afrique-du-sud-le-berceau-de-lhumanite/
CATEGORIES:Six-Fours
ATTACH;FMTTYPE=image/jpeg:https://lepetitvarois.fr/wp-content/uploads/2018/10/cinema-64154_960_720.jpg
END:VEVENT
END:VCALENDAR