BEGIN:VCALENDAR
VERSION:2.0
PRODID:-//Le Petit Varois.Fr - ECPv6.0.10//NONSGML v1.0//EN
CALSCALE:GREGORIAN
METHOD:PUBLISH
X-ORIGINAL-URL:https://lepetitvarois.fr
X-WR-CALDESC:évènements pour Le Petit Varois.Fr
REFRESH-INTERVAL;VALUE=DURATION:PT1H
X-Robots-Tag:noindex
X-PUBLISHED-TTL:PT1H
BEGIN:VTIMEZONE
TZID:Europe/Paris
BEGIN:DAYLIGHT
TZOFFSETFROM:+0100
TZOFFSETTO:+0200
TZNAME:CEST
DTSTART:20190331T010000
END:DAYLIGHT
BEGIN:STANDARD
TZOFFSETFROM:+0200
TZOFFSETTO:+0100
TZNAME:CET
DTSTART:20191027T010000
END:STANDARD
END:VTIMEZONE
BEGIN:VEVENT
DTSTART;TZID=Europe/Paris:20190309T093000
DTEND;TZID=Europe/Paris:20190309T190000
DTSTAMP:20260421T081016
CREATED:20190227T201126Z
LAST-MODIFIED:20190227T201126Z
UID:9722-1552123800-1552158000@lepetitvarois.fr
SUMMARY:2e salon de la Femme
DESCRIPTION:2e salon de la Femme de 9h30 à 19h.\nEspace culturel André Malraux\, 100 av. de Lattre de Tassigny. SIX FOURS\nUn salon pour les femmes comme vous\, comme nous\, qui jonglez entre le travail\, le mari\, les enfants\, le smartphone\, les loisirs\,  les régimes\, les sorties\, les obligations\, le sport\, le ménage et les courses… Pour les Working Girls\, les mamans au foyer\, les étudiantes\, les grands-mères\, les Fashion Addict\, les grandes (ou moins grandes)\, les petites\, les rondes\, sportives\, les accros au shopping\, les adeptes de la Zen Attitude…\nUn salon qui réunira à la fois vos Activités préférées\, des mises en beauté\, des animations sportives\, des informations pour votre prévoyance\, avenir\, questions juridiques & institutionnelles\, des Ateliers Bien-Être…Médecines Parallèles\, et qui permettra sur place de se faire coiffer\, maquiller\, masser\, conseiller\, coacher\, cocooner…défilés prêt à porter et Lingerie du 34 au 52 dans la journée.\nVenez partager cette journée détente entre amies\, familles\, collègue et visiter l’ensemble des stands divers et variés pour puiser des idées\, découvrir les nouveautés et surtout pour vous faire plaisir.\n> Entrée libre.\nAssociation Provence Méditerranée Evènements 07 62 80 90 08  
URL:https://lepetitvarois.fr/event/2e-salon-de-la-femme/
CATEGORIES:Six-Fours
ATTACH;FMTTYPE=image/jpeg:https://lepetitvarois.fr/wp-content/uploads/2015/04/2014-01-Women-Short-Jeans-Fashion-Style-Wallpaper.jpg
END:VEVENT
END:VCALENDAR