BEGIN:VCALENDAR
VERSION:2.0
PRODID:-//Le Petit Varois.Fr - ECPv6.0.10//NONSGML v1.0//EN
CALSCALE:GREGORIAN
METHOD:PUBLISH
X-WR-CALNAME:Le Petit Varois.Fr
X-ORIGINAL-URL:https://lepetitvarois.fr
X-WR-CALDESC:évènements pour Le Petit Varois.Fr
REFRESH-INTERVAL;VALUE=DURATION:PT1H
X-Robots-Tag:noindex
X-PUBLISHED-TTL:PT1H
BEGIN:VTIMEZONE
TZID:Europe/Paris
BEGIN:DAYLIGHT
TZOFFSETFROM:+0100
TZOFFSETTO:+0200
TZNAME:CEST
DTSTART:20190331T010000
END:DAYLIGHT
BEGIN:STANDARD
TZOFFSETFROM:+0200
TZOFFSETTO:+0100
TZNAME:CET
DTSTART:20191027T010000
END:STANDARD
END:VTIMEZONE
BEGIN:VEVENT
DTSTART;VALUE=DATE:20190315
DTEND;VALUE=DATE:20190318
DTSTAMP:20260421T080556
CREATED:20190227T204325Z
LAST-MODIFIED:20190227T204325Z
UID:9744-1552608000-1552867199@lepetitvarois.fr
SUMMARY:7e carte blanche à Xavier Leherpeur "Xavier joue la comédie"
DESCRIPTION:7e carte blanche à Xavier Leherpeur « Xavier joue la comédie »\nCinéma Six n’Etoiles\, 48 rue de la République. SIX FOURS\nVendredi 15 à 20h30 : « Le Roi de Coeur » de Philippe De Broca (1966) – (apéritif offert à partir de 19h30). \nSamedi 16 :  \n15h « Sourire d’une nuit d’été » d’Ingmar Bergman (1955).\n17h45 « Noblesse oblige » de Robert Hamer (1949).\n21h15 « Gaspard va au mariage » d’Antony Cordier (2018).\nDimanche 17 de 10h à 12h : Leçon de cinéma (Master Class). Analyse de séquences et échanges sur le film « Gaspard va au mariage ».\n> 5\,50 € (adhérents) / 6\,50 € film à l’unité – Pass 3 films : 15 € (adhérents) / 18 € – Pass 4 films : 20 € (adhérents) / 22 € – Master Class : 15 € adhérents et non adhérents.\nLumière(s) du Sud 06 13 30 62 40  lumieresdusud83@gmail.com – http://lumieresdusud83.blogspot.fr \n 
URL:https://lepetitvarois.fr/event/7e-carte-blanche-a-xavier-leherpeur-xavier-joue-la-comedie/
CATEGORIES:Six-Fours
ATTACH;FMTTYPE=image/jpeg:https://lepetitvarois.fr/wp-content/uploads/2019/02/camera-3244872_960_720.jpg
END:VEVENT
BEGIN:VEVENT
DTSTART;TZID=Europe/Paris:20190316T133000
DTEND;TZID=Europe/Paris:20190316T170000
DTSTAMP:20260421T080556
CREATED:20190227T204644Z
LAST-MODIFIED:20190227T204644Z
UID:9747-1552743000-1552755600@lepetitvarois.fr
SUMMARY:La journée de la chouette
DESCRIPTION:La journée de la chouette de 13h30 à 17h.\nMaison du Patrimoine\, corniche des Iles Paul Ricard\, Le Brusc. SIX FOURS\nAteliers sur les pelotes de réjection des rapaces nocturnes et exposition de photos de rapaces nocturnes. \n> Gratuit.\nLes amis de Janas et du Cap Sicié 06 10 13 49 88 http://amisdejanas1.e-monsite.com
URL:https://lepetitvarois.fr/event/la-journee-de-la-chouette/
CATEGORIES:Six-Fours
ATTACH;FMTTYPE=image/jpeg:https://lepetitvarois.fr/wp-content/uploads/2019/02/owl-2361801_960_720.jpg
END:VEVENT
END:VCALENDAR