BEGIN:VCALENDAR
VERSION:2.0
PRODID:-//Le Petit Varois.Fr - ECPv6.0.10//NONSGML v1.0//EN
CALSCALE:GREGORIAN
METHOD:PUBLISH
X-WR-CALNAME:Le Petit Varois.Fr
X-ORIGINAL-URL:https://lepetitvarois.fr
X-WR-CALDESC:évènements pour Le Petit Varois.Fr
REFRESH-INTERVAL;VALUE=DURATION:PT1H
X-Robots-Tag:noindex
X-PUBLISHED-TTL:PT1H
BEGIN:VTIMEZONE
TZID:Europe/Paris
BEGIN:DAYLIGHT
TZOFFSETFROM:+0100
TZOFFSETTO:+0200
TZNAME:CEST
DTSTART:20190331T010000
END:DAYLIGHT
BEGIN:STANDARD
TZOFFSETFROM:+0200
TZOFFSETTO:+0100
TZNAME:CET
DTSTART:20191027T010000
END:STANDARD
END:VTIMEZONE
BEGIN:VEVENT
DTSTART;TZID=Europe/Paris:20190329T080000
DTEND;TZID=Europe/Paris:20190329T170000
DTSTAMP:20260421T080440
CREATED:20190329T183431Z
LAST-MODIFIED:20190329T183431Z
UID:10297-1553846400-1553878800@lepetitvarois.fr
SUMMARY:Conférence "Les rochers curieux"
DESCRIPTION:Conférence « Les rochers curieux » par Raoul Décugis à 18h30.\nMaison du Patrimoine\, corniche des Iles Paul Ricard\, Le Brusc. SIX FOURS\n> Participation libre. Verre de l’amitié et douceurs offerts.\nAssociation Matriochka 04 94 74 95 11 / 06 70 09 01 80
URL:https://lepetitvarois.fr/event/conference-les-rochers-curieux/
CATEGORIES:Six-Fours
ATTACH;FMTTYPE=image/jpeg:https://lepetitvarois.fr/wp-content/uploads/2019/03/stones-167089_960_720.jpg
END:VEVENT
END:VCALENDAR