BEGIN:VCALENDAR
VERSION:2.0
PRODID:-//Le Petit Varois.Fr - ECPv6.0.10//NONSGML v1.0//EN
CALSCALE:GREGORIAN
METHOD:PUBLISH
X-WR-CALNAME:Le Petit Varois.Fr
X-ORIGINAL-URL:https://lepetitvarois.fr
X-WR-CALDESC:évènements pour Le Petit Varois.Fr
REFRESH-INTERVAL;VALUE=DURATION:PT1H
X-Robots-Tag:noindex
X-PUBLISHED-TTL:PT1H
BEGIN:VTIMEZONE
TZID:Europe/Paris
BEGIN:DAYLIGHT
TZOFFSETFROM:+0100
TZOFFSETTO:+0200
TZNAME:CEST
DTSTART:20190331T010000
END:DAYLIGHT
BEGIN:STANDARD
TZOFFSETFROM:+0200
TZOFFSETTO:+0100
TZNAME:CET
DTSTART:20191027T010000
END:STANDARD
END:VTIMEZONE
BEGIN:VEVENT
DTSTART;VALUE=DATE:20190406
DTEND;VALUE=DATE:20190408
DTSTAMP:20260421T061217
CREATED:20190329T173649Z
LAST-MODIFIED:20190329T173649Z
UID:10241-1554508800-1554681599@lepetitvarois.fr
SUMMARY:Hello Château "Ludo-Médiévale"
DESCRIPTION:Hello Château « Ludo-Médiévale »\nPlace des Poilus. SIX FOURS\nHello Six Fours\, l’association des commerçants de centre vous propose une « Ludo-Médiévale » qui permet de s’amuser aux temps des chevaliers. Venez déguisés et profitez du fort gonflable\, du camp médiéval des Ours Noirs\, des spectacles de lancer de couteaux\, hâches et fouets\, du mrché médiéval\, des balades à poneys et du « défilé-concert » du Condor (15 musiciens). \nLa confrérie des Ours offre une reconstitution historique très impressionnante\, surtout lors de l’entraînement à l’épée et ça donne envie à vos enfants d’en faire autant. Ils pourront vivre les sensations d’un chevalier en joute en toute sécurité\, lors du tournoi de chevaliers avec des vraies épées…en mousse !\n> Accès libre.\nAssociation des commerçants et artisans « Hello Six Fours » 04 94 25 60 05
URL:https://lepetitvarois.fr/event/hello-chateau-ludo-medievale/
CATEGORIES:Six-Fours
ATTACH;FMTTYPE=image/jpeg:https://lepetitvarois.fr/wp-content/uploads/2019/03/knight-1421358_960_720.jpg
END:VEVENT
BEGIN:VEVENT
DTSTART;TZID=Europe/Paris:20190406T080000
DTEND;TZID=Europe/Paris:20190406T113000
DTSTAMP:20260421T061217
CREATED:20190329T163024Z
LAST-MODIFIED:20190329T163024Z
UID:10221-1554537600-1554550200@lepetitvarois.fr
SUMMARY:Brocante
DESCRIPTION:Brocante de 8h à 11h30.\nSecours Catholique\, 40 Boucle du Stade. SIX FOURS\nChaque mois\, venez faire un tour à la brocante du Secours Catholique. Venez faire des affaires : vêtements hommes\, femmes\, enfants à partir de 0\,50 €\, chaussures\, jouets\, petits appareils ménagers… \n> Accès libre.\nSecours Catholique 04 94 34 26 32
URL:https://lepetitvarois.fr/event/brocante-6/
CATEGORIES:Six-Fours
ATTACH;FMTTYPE=image/jpeg:https://lepetitvarois.fr/wp-content/uploads/2018/06/flea-market-1883693_960_720.jpg
END:VEVENT
BEGIN:VEVENT
DTSTART;TZID=Europe/Paris:20190406T080000
DTEND;TZID=Europe/Paris:20190406T170000
DTSTAMP:20260421T061217
CREATED:20190329T172132Z
LAST-MODIFIED:20190329T172132Z
UID:10239-1554537600-1554570000@lepetitvarois.fr
SUMMARY:Stammtisch : conversations libres en langue allemande
DESCRIPTION:Stammtisch : conversations libres en langue allemande à 16h.\nLe Café des Arts\, 8 rue Cyrus Hugues. LA SEYNE\nCette animation est ouverte à toute personne qui souhaite parler allemand dans une ambiance conviviale. \n> Participation libre. Il est demandé de consommer sur place.\nLes Amis Varois de l’Union Européenne (Association) 06 79 95 70 26
URL:https://lepetitvarois.fr/event/stammtisch-conversations-libres-en-langue-allemande-4/
CATEGORIES:Six-Fours
ATTACH;FMTTYPE=image/jpeg:https://lepetitvarois.fr/wp-content/uploads/2018/10/bundestag-2463236_960_720.jpg
END:VEVENT
BEGIN:VEVENT
DTSTART;TZID=Europe/Paris:20190406T093000
DTEND;TZID=Europe/Paris:20190406T170000
DTSTAMP:20260421T061217
CREATED:20190329T163205Z
LAST-MODIFIED:20190329T163205Z
UID:10223-1554543000-1554570000@lepetitvarois.fr
SUMMARY:Pâques s’invite aux Playes
DESCRIPTION:Pâques s’invite aux Playes de 9h30 à 17h. \nEspace Pierre Reymonenq\, av. de la Calade\, Les Playes. SIX FOURS\n10h et 15h : chasse aux œufs.  \n11h15 : Flash mob.  \n14h\, 15h et 16h : atelier cuisine avec Alex et les petites toques. Création par les enfants d’oeufs au chocolat. Ils repartiront avec leur création et une toque de chef. \n16h : goûter et tirage de la tombola.\nEt toute la journée\, de nombreuses animations et ateliers : Exposition des oeuvres des élèves de l’école maternelle des Playes\, création de paniers brodés avec Laurence Sibourg\, initiation aux gyropodes avec Pierre Oussatoff (à partir de 12 ans)\, fabrication de badges avec AJIR\, atelier de Catherine Berzolla maître Reiki\, fabrication de gâteaux et boissons sans théine à déguster sur place avec Nathalie Ordonneau\, jeu gonflable pour petits jusqu’à 8 ans\, maquillage pour enfants avec Familysphère\, vente de churros et pop corns.\n> Gratuit.\nService communication 04 94 34 93 50
URL:https://lepetitvarois.fr/event/paques-sinvite-aux-playes/
CATEGORIES:Six-Fours
ATTACH;FMTTYPE=image/jpeg:https://lepetitvarois.fr/wp-content/uploads/2018/03/easter-3263657_960_720.jpg
END:VEVENT
END:VCALENDAR