BEGIN:VCALENDAR
VERSION:2.0
PRODID:-//Le Petit Varois.Fr - ECPv6.0.10//NONSGML v1.0//EN
CALSCALE:GREGORIAN
METHOD:PUBLISH
X-ORIGINAL-URL:https://lepetitvarois.fr
X-WR-CALDESC:évènements pour Le Petit Varois.Fr
REFRESH-INTERVAL;VALUE=DURATION:PT1H
X-Robots-Tag:noindex
X-PUBLISHED-TTL:PT1H
BEGIN:VTIMEZONE
TZID:Europe/Paris
BEGIN:DAYLIGHT
TZOFFSETFROM:+0100
TZOFFSETTO:+0200
TZNAME:CEST
DTSTART:20190331T010000
END:DAYLIGHT
BEGIN:STANDARD
TZOFFSETFROM:+0200
TZOFFSETTO:+0100
TZNAME:CET
DTSTART:20191027T010000
END:STANDARD
END:VTIMEZONE
BEGIN:VEVENT
DTSTART;VALUE=DATE:20190413
DTEND;VALUE=DATE:20190422
DTSTAMP:20260421T061344
CREATED:20190329T180756Z
LAST-MODIFIED:20190329T180756Z
UID:10271-1555113600-1555891199@lepetitvarois.fr
SUMMARY:Animations de Printemps
DESCRIPTION:Animations de Printemps de 15h à 19h.\nPlace des Poilus. SIX FOURS\nUne aire de jeux géante avec une structure gonflable\, des ateliers création et des jeux en bois. \n> Accès libre.\nService communication 04 94 34 93 50
URL:https://lepetitvarois.fr/event/animations-de-printemps/
CATEGORIES:Six-Fours
ATTACH;FMTTYPE=image/jpeg:https://lepetitvarois.fr/wp-content/uploads/2019/03/gypsophila-1716747_960_720.jpg
END:VEVENT
BEGIN:VEVENT
DTSTART;TZID=Europe/Paris:20190420T100000
DTEND;TZID=Europe/Paris:20190420T170000
DTSTAMP:20260421T061344
CREATED:20190329T184135Z
LAST-MODIFIED:20190329T184135Z
UID:10303-1555754400-1555779600@lepetitvarois.fr
SUMMARY:Journée initiation boxe féminine "Open door boxing ladies day"
DESCRIPTION:Journée initiation boxe féminine « Open door boxing ladies day » (ouvert aux filles et femmes à partir de 7 ans) de 10h à 17h. \nHalle des sports du Verger\, 6 av. Maréchal de Lattre de Tassigny. SIX FOURS\nAu programme\, des démonstrations de boxe éducative féminine\, et des ateliers types leçons collective\, leçons aux pattes d’ours\, aéroboxe\, circuits training seront mis en place afin de faire découvrir le noble art aux filles et aux femmes. \n> Gratuit.\nBoxing club Six Fournais  06 13 33 16 46  
URL:https://lepetitvarois.fr/event/journee-initiation-boxe-feminine-open-door-boxing-ladies-day/
CATEGORIES:Six-Fours
ATTACH;FMTTYPE=image/jpeg:https://lepetitvarois.fr/wp-content/uploads/2019/03/training-828741_960_720.jpg
END:VEVENT
END:VCALENDAR