BEGIN:VCALENDAR
VERSION:2.0
PRODID:-//Le Petit Varois.Fr - ECPv6.0.10//NONSGML v1.0//EN
CALSCALE:GREGORIAN
METHOD:PUBLISH
X-ORIGINAL-URL:https://lepetitvarois.fr
X-WR-CALDESC:évènements pour Le Petit Varois.Fr
REFRESH-INTERVAL;VALUE=DURATION:PT1H
X-Robots-Tag:noindex
X-PUBLISHED-TTL:PT1H
BEGIN:VTIMEZONE
TZID:Europe/Paris
BEGIN:DAYLIGHT
TZOFFSETFROM:+0100
TZOFFSETTO:+0200
TZNAME:CEST
DTSTART:20190331T010000
END:DAYLIGHT
BEGIN:STANDARD
TZOFFSETFROM:+0200
TZOFFSETTO:+0100
TZNAME:CET
DTSTART:20191027T010000
END:STANDARD
END:VTIMEZONE
BEGIN:VEVENT
DTSTART;TZID=Europe/Paris:20190501T090000
DTEND;TZID=Europe/Paris:20190501T153000
DTSTAMP:20260421T045019
CREATED:20190429T193527Z
LAST-MODIFIED:20190429T193527Z
UID:10723-1556701200-1556724600@lepetitvarois.fr
SUMMARY:Pèlerinage à Notre Dame du Mai
DESCRIPTION:Pèlerinage à Notre Dame du Mai à 9h. \nEglise Notre Dame de l’Assomption\, rue de la République. SIX FOURS\nDépart depuis l’église ND de l’Assomption\, rue de la République. \n9h : départ de l’église Notre-Dame de l’Assomption de Six Fours avec un arrêt aux 7 Oratoires qui jalonnent la route. 10h30 : rendez-vous à l’Aire des Mascs. Montée à la chapelle avec la statue de la Vierge Marie portée par les marins de la SNSM « Notre Dame du Mai » et présence du comité communal des Feux de Forêt. \n11h30 : messe solennelle chantée par la chorale du Raïoulet.\n12h30 : apéritif musical par la Philharmonique la Six Fournaise offert par la mairie de Six Fours.\n13h : repas pique-nique tiré du sac.\n14h : concours de boules gratuit avec récompenses.\nUn minibus\, mis à disposition par la municipalité\, partira du parking Bouillibaye à 9h30. Ce jour là\, il fera des navettes entre le parking de l’Aire des Mascs et le dessous de la chapelle\, jusqu’à la fin de l’office.\nIl est rappelé que la chapelle sera ouverte durant tout le mois de mai de 9h à 12h et de 14h à 18h (19h les dimanches et fête).\n> Gratuit.\nDany Cayol 06 15 08 77 42
URL:https://lepetitvarois.fr/event/pelerinage-a-notre-dame-du-mai/
CATEGORIES:Six-Fours
ATTACH;FMTTYPE=image/jpeg:https://lepetitvarois.fr/wp-content/uploads/2019/04/easter-1443348_960_720.jpg
END:VEVENT
BEGIN:VEVENT
DTSTART;TZID=Europe/Paris:20190501T110000
DTEND;TZID=Europe/Paris:20190501T123000
DTSTAMP:20260421T045019
CREATED:20190429T193829Z
LAST-MODIFIED:20190429T193829Z
UID:10727-1556708400-1556713800@lepetitvarois.fr
SUMMARY:Vin d’honneur et anchoïade
DESCRIPTION:Vin d’honneur et anchoïade à partir de 11h.\nPlace de la chapelle des Playes. SIX FOURS\nComité des fêtes des Playes 06 69 41 32 64
URL:https://lepetitvarois.fr/event/vin-dhonneur-et-anchoiade/
CATEGORIES:Six-Fours
ATTACH;FMTTYPE=image/jpeg:https://lepetitvarois.fr/wp-content/uploads/2018/05/wineglass-553467_960_720.jpg
END:VEVENT
END:VCALENDAR