BEGIN:VCALENDAR
VERSION:2.0
PRODID:-//Le Petit Varois.Fr - ECPv6.0.10//NONSGML v1.0//EN
CALSCALE:GREGORIAN
METHOD:PUBLISH
X-ORIGINAL-URL:https://lepetitvarois.fr
X-WR-CALDESC:évènements pour Le Petit Varois.Fr
REFRESH-INTERVAL;VALUE=DURATION:PT1H
X-Robots-Tag:noindex
X-PUBLISHED-TTL:PT1H
BEGIN:VTIMEZONE
TZID:Europe/Paris
BEGIN:DAYLIGHT
TZOFFSETFROM:+0100
TZOFFSETTO:+0200
TZNAME:CEST
DTSTART:20190331T010000
END:DAYLIGHT
BEGIN:STANDARD
TZOFFSETFROM:+0200
TZOFFSETTO:+0100
TZNAME:CET
DTSTART:20191027T010000
END:STANDARD
END:VTIMEZONE
BEGIN:VEVENT
DTSTART;TZID=Europe/Paris:20190504T080000
DTEND;TZID=Europe/Paris:20190504T113000
DTSTAMP:20260421T044224
CREATED:20190429T194442Z
LAST-MODIFIED:20190429T194442Z
UID:10742-1556956800-1556969400@lepetitvarois.fr
SUMMARY:Brocante du Secours Catholique
DESCRIPTION:Brocante du Secours Catholique de 8h à 11h30. \nSecours Catholique\, 40 boucle du Stade. SIX FOURS\nChaque mois\, venez faire un tour à la brocante du Secours Catholique. Venez faire des affaires : vêtements hommes\, femmes\, enfants à partir de 0\,50 €\, chaussures\, jouets\, petits appareils ménagers… \nRenseignement 04 94 34 26 32  
URL:https://lepetitvarois.fr/event/brocante-du-secours-catholique-3/
CATEGORIES:Six-Fours
ATTACH;FMTTYPE=image/jpeg:https://lepetitvarois.fr/wp-content/uploads/2019/03/dish-shelf-1290428_960_720.jpg
END:VEVENT
END:VCALENDAR