BEGIN:VCALENDAR
VERSION:2.0
PRODID:-//Le Petit Varois.Fr - ECPv6.0.10//NONSGML v1.0//EN
CALSCALE:GREGORIAN
METHOD:PUBLISH
X-ORIGINAL-URL:https://lepetitvarois.fr
X-WR-CALDESC:évènements pour Le Petit Varois.Fr
REFRESH-INTERVAL;VALUE=DURATION:PT1H
X-Robots-Tag:noindex
X-PUBLISHED-TTL:PT1H
BEGIN:VTIMEZONE
TZID:Europe/Paris
BEGIN:DAYLIGHT
TZOFFSETFROM:+0100
TZOFFSETTO:+0200
TZNAME:CEST
DTSTART:20190331T010000
END:DAYLIGHT
BEGIN:STANDARD
TZOFFSETFROM:+0200
TZOFFSETTO:+0100
TZNAME:CET
DTSTART:20191027T010000
END:STANDARD
END:VTIMEZONE
BEGIN:VEVENT
DTSTART;TZID=Europe/Paris:20190513T150000
DTEND;TZID=Europe/Paris:20190513T170000
DTSTAMP:20260421T045547
CREATED:20190430T194107Z
LAST-MODIFIED:20190430T194107Z
UID:10818-1557759600-1557766800@lepetitvarois.fr
SUMMARY:24e festimage
DESCRIPTION:24e festimage à 15h. \nThéâtre Daudet\, av. du Maréchal de Lattre de Tassigny. SIX FOURS\nDeux catégories sont proposées : catégorie « court métrage » (film d’une durée de 7 minutes) et catégorie « film minute » (durée maximale 2 minutes). Pour les 2 catégories le thème est libre. Tous les films seront projetés et feront l’objet d’un vote du public.\n> Entrée libre.\nVoyages loisirs culturels section cercle vidéo 06 47 50 57 26 bernardingels@gmail.com   \n 
URL:https://lepetitvarois.fr/event/24e-festimage/
CATEGORIES:Six-Fours
ATTACH;FMTTYPE=image/jpeg:https://lepetitvarois.fr/wp-content/uploads/2018/02/photographer-455747_960_720.jpg
END:VEVENT
END:VCALENDAR