BEGIN:VCALENDAR
VERSION:2.0
PRODID:-//Le Petit Varois.Fr - ECPv6.0.10//NONSGML v1.0//EN
CALSCALE:GREGORIAN
METHOD:PUBLISH
X-WR-CALNAME:Le Petit Varois.Fr
X-ORIGINAL-URL:https://lepetitvarois.fr
X-WR-CALDESC:évènements pour Le Petit Varois.Fr
REFRESH-INTERVAL;VALUE=DURATION:PT1H
X-Robots-Tag:noindex
X-PUBLISHED-TTL:PT1H
BEGIN:VTIMEZONE
TZID:Europe/Paris
BEGIN:DAYLIGHT
TZOFFSETFROM:+0100
TZOFFSETTO:+0200
TZNAME:CEST
DTSTART:20190331T010000
END:DAYLIGHT
BEGIN:STANDARD
TZOFFSETFROM:+0200
TZOFFSETTO:+0100
TZNAME:CET
DTSTART:20191027T010000
END:STANDARD
END:VTIMEZONE
BEGIN:VEVENT
DTSTART;TZID=Europe/Paris:20190517T200000
DTEND;TZID=Europe/Paris:20190517T220000
DTSTAMP:20260421T044458
CREATED:20190430T195229Z
LAST-MODIFIED:20190430T195229Z
UID:10836-1558123200-1558130400@lepetitvarois.fr
SUMMARY:Dîner concert jazz avec le trio de Vittorio Silvestri
DESCRIPTION:Dîner concert jazz avec le trio de Vittorio Silvestri à 20h. \nLe Mont Salva\, ch. du Mont Salva\, Le Brusc. SIX FOURS\nVittorio Silvestri\, musicien de jazz italien. \nGuitariste confirmé au style élégant\, il combine interprétation et composition en nous faisant revisiter les chansons du monde et d’Italie. Il sera accompagné de Gabrielle Koehlhoeffer à la contrebasse et Christian Ton Ton Salut aux drums.\n> 40 € (concert\, dîner\, vin et apéritif).\nRéservation 04 94 34 03 93 / 06 28 46 18 41 www.restaurant-reception.com
URL:https://lepetitvarois.fr/event/diner-concert-jazz-avec-le-trio-de-vittorio-silvestri/
CATEGORIES:Six-Fours
ATTACH;FMTTYPE=image/jpeg:https://lepetitvarois.fr/wp-content/uploads/2018/02/person-2248567_960_720.jpg
END:VEVENT
END:VCALENDAR