BEGIN:VCALENDAR
VERSION:2.0
PRODID:-//Le Petit Varois.Fr - ECPv6.0.10//NONSGML v1.0//EN
CALSCALE:GREGORIAN
METHOD:PUBLISH
X-WR-CALNAME:Le Petit Varois.Fr
X-ORIGINAL-URL:https://lepetitvarois.fr
X-WR-CALDESC:évènements pour Le Petit Varois.Fr
REFRESH-INTERVAL;VALUE=DURATION:PT1H
X-Robots-Tag:noindex
X-PUBLISHED-TTL:PT1H
BEGIN:VTIMEZONE
TZID:Europe/Paris
BEGIN:DAYLIGHT
TZOFFSETFROM:+0100
TZOFFSETTO:+0200
TZNAME:CEST
DTSTART:20190331T010000
END:DAYLIGHT
BEGIN:STANDARD
TZOFFSETFROM:+0200
TZOFFSETTO:+0100
TZNAME:CET
DTSTART:20191027T010000
END:STANDARD
END:VTIMEZONE
BEGIN:VEVENT
DTSTART;TZID=Europe/Paris:20190603T150000
DTEND;TZID=Europe/Paris:20190603T170000
DTSTAMP:20260421T031530
CREATED:20190527T150833Z
LAST-MODIFIED:20190527T150833Z
UID:11259-1559574000-1559581200@lepetitvarois.fr
SUMMARY:Vidéo projections
DESCRIPTION:Vidéo projections : « Automne au Canada » (53′)\, lecture du palmarès du 24è festimage et projection des films primés par le jury et le public à 15h. \nThéâtre Daudet\, 100 av. du Maréchal de Lattre de Tassigny. SIX FOURS\n> Entrée libre.\nVoyages loisirs culturels 04 94 88 64 45 vlc83140@vlcsixfours.fr – www.vlcsixfours.fr
URL:https://lepetitvarois.fr/event/video-projections-2/
CATEGORIES:Six-Fours
ATTACH;FMTTYPE=image/jpeg:https://lepetitvarois.fr/wp-content/uploads/2018/09/analogue-2974647_960_720.jpg
END:VEVENT
END:VCALENDAR