BEGIN:VCALENDAR
VERSION:2.0
PRODID:-//Le Petit Varois.Fr - ECPv6.0.10//NONSGML v1.0//EN
CALSCALE:GREGORIAN
METHOD:PUBLISH
X-WR-CALNAME:Le Petit Varois.Fr
X-ORIGINAL-URL:https://lepetitvarois.fr
X-WR-CALDESC:évènements pour Le Petit Varois.Fr
REFRESH-INTERVAL;VALUE=DURATION:PT1H
X-Robots-Tag:noindex
X-PUBLISHED-TTL:PT1H
BEGIN:VTIMEZONE
TZID:Europe/Paris
BEGIN:DAYLIGHT
TZOFFSETFROM:+0100
TZOFFSETTO:+0200
TZNAME:CEST
DTSTART:20190331T010000
END:DAYLIGHT
BEGIN:STANDARD
TZOFFSETFROM:+0200
TZOFFSETTO:+0100
TZNAME:CET
DTSTART:20191027T010000
END:STANDARD
END:VTIMEZONE
BEGIN:VEVENT
DTSTART;TZID=Europe/Paris:20190607T210000
DTEND;TZID=Europe/Paris:20190607T223000
DTSTAMP:20260421T031419
CREATED:20190527T154642Z
LAST-MODIFIED:20190527T154642Z
UID:11280-1559941200-1559946600@lepetitvarois.fr
SUMMARY:Randonnée nocturne en rollers
DESCRIPTION:Randonnée nocturne en rollers de 21h à 22h30.\nStade Antoine Baptiste\, 1065 ch. des Hoirs. SIX FOURS\nDépart du parking du stade Antoine Baptiste pour une petite dizaine de kilomètres en bordure de mer vers le Gaou et retour. Niveau facile. Les participants en vélo\, skate et trottinette sont les bienvenus en fin de cortège. Retour au point de départ prévu vers 22h30. Information de dernière minute sur le site internet www.rpm-club.fr \n> Gratuit.\nRoller Provence Méditerranée  06 61 33 07 21 contact@rpm-club.fr – www.rpm-club.fr
URL:https://lepetitvarois.fr/event/randonnee-nocturne-en-rollers-4/
CATEGORIES:Six-Fours
ATTACH;FMTTYPE=image/jpeg:https://lepetitvarois.fr/wp-content/uploads/2018/02/roller-skates-381216_960_720.jpg
END:VEVENT
END:VCALENDAR