BEGIN:VCALENDAR
VERSION:2.0
PRODID:-//Le Petit Varois.Fr - ECPv6.0.10//NONSGML v1.0//EN
CALSCALE:GREGORIAN
METHOD:PUBLISH
X-ORIGINAL-URL:https://lepetitvarois.fr
X-WR-CALDESC:évènements pour Le Petit Varois.Fr
REFRESH-INTERVAL;VALUE=DURATION:PT1H
X-Robots-Tag:noindex
X-PUBLISHED-TTL:PT1H
BEGIN:VTIMEZONE
TZID:Europe/Paris
BEGIN:DAYLIGHT
TZOFFSETFROM:+0100
TZOFFSETTO:+0200
TZNAME:CEST
DTSTART:20190331T010000
END:DAYLIGHT
BEGIN:STANDARD
TZOFFSETFROM:+0200
TZOFFSETTO:+0100
TZNAME:CET
DTSTART:20191027T010000
END:STANDARD
END:VTIMEZONE
BEGIN:VEVENT
DTSTART;VALUE=DATE:20190705
DTEND;VALUE=DATE:20190708
DTSTAMP:20260421T013417
CREATED:20190701T104048Z
LAST-MODIFIED:20190701T104048Z
UID:11764-1562284800-1562543999@lepetitvarois.fr
SUMMARY:Pointu Festival 2019
DESCRIPTION:Festival Isla 2019 3e édition  \nIle des Embiez. SIX FOURS\nLe festival Isla revient pour un troisième été sur l’île des Embiez. Programmation à venir.  \nUne parenthèse musicale\, avec conférences\, rencontres\, cours de yoga\, parcours artistiques et concerts à gogo. Plus d’infos très bientôt\, mais les années précédentes\, Polo & Pan\, Jacques\, Flavien Berger\, Feu Chatterton étaient de la partie… Réserve vite !\nIsla Les Embiez  www.isla-lesembiez.com  \n■ Pointu Festival 2019 de 18h à minuit. \nPresqu’île du Gaou. SIX FOURS\nLe 5 : Hot Chip (UK)\, Slaves (UK)\, Julia Jacklin (AUS) et The Japanese House (UK). \nLe 6 : Fat White Family\, The Twilight Sad (Official) (UK)\, Steve Gunn (USA) et Penelope Isles (UK). \nLe 7 : Mogwai (UK)\, Converge (USA)\, METZ (CA) et J.C.Satàn (FR).\nRenseignement www.pointufestival.fr 
URL:https://lepetitvarois.fr/event/pointu-festival-2019/
CATEGORIES:Six-Fours
ATTACH;FMTTYPE=image/png:https://lepetitvarois.fr/wp-content/uploads/2019/07/D95genSX4AEIa0D.png-large.png
END:VEVENT
BEGIN:VEVENT
DTSTART;TZID=Europe/Paris:20190706T080000
DTEND;TZID=Europe/Paris:20190706T113000
DTSTAMP:20260421T013417
CREATED:20190702T142127Z
LAST-MODIFIED:20190702T142127Z
UID:11793-1562400000-1562412600@lepetitvarois.fr
SUMMARY:Brocante
DESCRIPTION:Brocante de 8h à 11h30. \nSecours Catholique\, 40 boucle du Stade. SIX FOURS\nRenseignement 04 94 34 26 32
URL:https://lepetitvarois.fr/event/brocante-7/
CATEGORIES:Six-Fours
ATTACH;FMTTYPE=image/jpeg:https://lepetitvarois.fr/wp-content/uploads/2018/02/flea-market-1883689_960_720.jpg
END:VEVENT
BEGIN:VEVENT
DTSTART;TZID=Europe/Paris:20190706T103000
DTEND;TZID=Europe/Paris:20190706T170000
DTSTAMP:20260421T013417
CREATED:20190702T142217Z
LAST-MODIFIED:20190702T142217Z
UID:11795-1562409000-1562432400@lepetitvarois.fr
SUMMARY:Conférence "Hildegarde de Bingen"
DESCRIPTION: Conférence « Hildegarde de Bingen » par le Père Matthieu Rouillé d’Orfeuil à 10h30. \nChapelle Notre Dame de Pépiole\, ch. de Pépiole. SIX FOURS\nHildegarde de Bingen\, née le 16 septembre 1098 à Bermersheim vor der Höhe près d’Alzey (Hesse rhénane) et morte le 17 septembre 1179 à Rupertsberg (près de Bingen)\, est une religieuse bénédictine mystique\, compositrice et femme de lettres franconienne\, sainte de l’Église catholique du XIIe siècle. Elle a été aussi plus rarement dénommée Hildegarde de Rupertsberg.\n> Entrée libre.\nService communication 04 94 34 93 50 www.ville-six-fours.fr
URL:https://lepetitvarois.fr/event/conference-hildegarde-de-bingen/
CATEGORIES:Six-Fours
ATTACH;FMTTYPE=image/jpeg:https://lepetitvarois.fr/wp-content/uploads/2018/10/startup-594091_960_720.jpg
END:VEVENT
END:VCALENDAR