BEGIN:VCALENDAR
VERSION:2.0
PRODID:-//Le Petit Varois.Fr - ECPv6.0.10//NONSGML v1.0//EN
CALSCALE:GREGORIAN
METHOD:PUBLISH
X-WR-CALNAME:Le Petit Varois.Fr
X-ORIGINAL-URL:https://lepetitvarois.fr
X-WR-CALDESC:évènements pour Le Petit Varois.Fr
REFRESH-INTERVAL;VALUE=DURATION:PT1H
X-Robots-Tag:noindex
X-PUBLISHED-TTL:PT1H
BEGIN:VTIMEZONE
TZID:Europe/Paris
BEGIN:DAYLIGHT
TZOFFSETFROM:+0100
TZOFFSETTO:+0200
TZNAME:CEST
DTSTART:20190331T010000
END:DAYLIGHT
BEGIN:STANDARD
TZOFFSETFROM:+0200
TZOFFSETTO:+0100
TZNAME:CET
DTSTART:20191027T010000
END:STANDARD
END:VTIMEZONE
BEGIN:VEVENT
DTSTART;TZID=Europe/Paris:20190710T210000
DTEND;TZID=Europe/Paris:20190710T233000
DTSTAMP:20260421T013247
CREATED:20190703T222706Z
LAST-MODIFIED:20190703T222706Z
UID:11842-1562792400-1562801400@lepetitvarois.fr
SUMMARY:Le Brusc en photos d'hier à aujourd'hui
DESCRIPTION:Le Brusc en photos d’hier à aujourd’hui à 21h. \nQuai de la prud’homie\, port du Brusc. SIX FOURS\nProjection de photos du Brusc d’hier à aujourd’hui avec des explications d’André Mercheyer. \n> Gratuit.\nComité de Liaison des Associations Bruscaines lebrusc.info@gmail.com – www.lebrusc.info
URL:https://lepetitvarois.fr/event/le-brusc-en-photos-dhier-a-aujourdhui/
CATEGORIES:Six-Fours
ATTACH;FMTTYPE=image/jpeg:https://lepetitvarois.fr/wp-content/uploads/2019/03/blue-1840457_960_720.jpg
END:VEVENT
END:VCALENDAR