BEGIN:VCALENDAR
VERSION:2.0
PRODID:-//Le Petit Varois.Fr - ECPv6.0.10//NONSGML v1.0//EN
CALSCALE:GREGORIAN
METHOD:PUBLISH
X-WR-CALNAME:Le Petit Varois.Fr
X-ORIGINAL-URL:https://lepetitvarois.fr
X-WR-CALDESC:évènements pour Le Petit Varois.Fr
REFRESH-INTERVAL;VALUE=DURATION:PT1H
X-Robots-Tag:noindex
X-PUBLISHED-TTL:PT1H
BEGIN:VTIMEZONE
TZID:Europe/Paris
BEGIN:DAYLIGHT
TZOFFSETFROM:+0100
TZOFFSETTO:+0200
TZNAME:CEST
DTSTART:20190331T010000
END:DAYLIGHT
BEGIN:STANDARD
TZOFFSETFROM:+0200
TZOFFSETTO:+0100
TZNAME:CET
DTSTART:20191027T010000
END:STANDARD
END:VTIMEZONE
BEGIN:VEVENT
DTSTART;TZID=Europe/Paris:20190719T100000
DTEND;TZID=Europe/Paris:20190719T190000
DTSTAMP:20260421T013956
CREATED:20190710T211429Z
LAST-MODIFIED:20190710T211429Z
UID:11964-1563530400-1563562800@lepetitvarois.fr
SUMMARY:Tournée des plages : Pitch
DESCRIPTION:Tournée des plages : Pitch de 10h à 19h. \nPlage de Bonnegrâce. SIX FOURS\nService communication 04 94 34 93 50
URL:https://lepetitvarois.fr/event/tournee-des-plages-pitch/
CATEGORIES:Six-Fours
ATTACH;FMTTYPE=image/jpeg:https://lepetitvarois.fr/wp-content/uploads/2018/07/beach-455752_960_720.jpg
END:VEVENT
BEGIN:VEVENT
DTSTART;TZID=Europe/Paris:20190719T180000
DTEND;TZID=Europe/Paris:20190719T233000
DTSTAMP:20260421T013956
CREATED:20190710T211711Z
LAST-MODIFIED:20190710T211711Z
UID:11970-1563559200-1563579000@lepetitvarois.fr
SUMMARY:Marché des artisans et créateurs de Provence
DESCRIPTION:Marché des artisans et créateurs de Provence de 18h à minuit. \nQuai de la prud’homie\, port du Brusc. SIX FOURS\nComité de Liaison des Associations Bruscaines  lebrusc.info@gmail.com – www.lebrusc.info
URL:https://lepetitvarois.fr/event/marche-des-artisans-et-createurs-de-provence-2/
CATEGORIES:Six-Fours
ATTACH;FMTTYPE=image/jpeg:https://lepetitvarois.fr/wp-content/uploads/2018/06/flea-market-1883693_960_720.jpg
END:VEVENT
BEGIN:VEVENT
DTSTART;TZID=Europe/Paris:20190719T200000
DTEND;TZID=Europe/Paris:20190719T233000
DTSTAMP:20260421T013956
CREATED:20190710T211939Z
LAST-MODIFIED:20190710T211939Z
UID:11972-1563566400-1563579000@lepetitvarois.fr
SUMMARY:Dîner concert jazz avec Eric Luthier en quintet pour une soirée New Orléans
DESCRIPTION:Dîner concert jazz avec Eric Luthier en quintet pour une soirée New Orléans à 20h. \nLe Mont Salva\, ch. du Mont Salva\, Le Brusc. SIX FOURS\nVittorio Silvestri\, musicien de jazz italien. \nGuitariste confirmé au style élégant\, il combine interprétation et composition en nous faisant revisiter les chansons du monde et d’Italie. Il sera accompagné de Gabrielle Koehlhoeffer à la contrebasse et Christian Ton Ton Salut aux drums.\n> 41 € (concert\, dîner\, vin et apéritif).\nRéservation 04 94 34 03 93 / 06 28 46 18 41 www.restaurant-reception.com 
URL:https://lepetitvarois.fr/event/diner-concert-jazz-avec-eric-luthier-en-quintet-pour-une-soiree-new-orleans/
CATEGORIES:Six-Fours
ATTACH;FMTTYPE=image/jpeg:https://lepetitvarois.fr/wp-content/uploads/2018/02/person-2248567_960_720.jpg
END:VEVENT
BEGIN:VEVENT
DTSTART;TZID=Europe/Paris:20190719T203000
DTEND;TZID=Europe/Paris:20190719T223000
DTSTAMP:20260421T013956
CREATED:20190710T212406Z
LAST-MODIFIED:20190710T212406Z
UID:11974-1563568200-1563575400@lepetitvarois.fr
SUMMARY:L'Estival 2019 : concert à la Collégiale "La Battle des Anges" de Vivaldi
DESCRIPTION:L’Estival 2019 : concert à la Collégiale « La Battle des Anges » de Vivaldi par l’Ensemble Matheus\, 2 chœurs sous la direction de Jean-Christophe Spinosi à 20h30. \nCollégiale Saint Pierre\, montée du Fort. SIX FOURS\nQuand le prêtre Antonio Vivaldi fait se confronter les anges pour célébrer la gloire de Dieu\, il organise la première battle vocale baroque. Les trois chefs d’oeuvre « Dixit Dominus »\, « Beatus Vir » et « Lauda Jerusalem » présentent les œuvres « à double chœur » : deux équipes distinctes de chanteurs se font face pour rivaliser de beauté et de grâce. \nAccès depuis le bas de la Collégiale interdit à tous les véhicules.  \nParking gratuit : Esplanade de la Halle du verger\, et des navettes assureront les transferts avant et après le concert.\n> 21\,50 € tarif plein / 18\,50 € tarif réduit (Amis du Festival\, Association pour les musées de Toulon\, groupes minimum 10 personnes\, professeurs du Conservatoire TPM) / 11\,50 € tarif spécial jeunes six-fournais (13-25 ans). Billetterie en vente à l’accueil de l’office de tourisme de Six Fours. \nOT Six Fours 04 94 07 02 21 / Festival de Musique de Toulon 04 94 93 55 45 www.festivalmusiquetoulon.com  \n 
URL:https://lepetitvarois.fr/event/lestival-2019-concert-a-la-collegiale-la-battle-des-anges-de-vivaldi/
CATEGORIES:Six-Fours
ATTACH;FMTTYPE=image/png:https://lepetitvarois.fr/wp-content/uploads/2018/06/Capture-d’écran-2018-06-23-à-12.03.47.png
END:VEVENT
END:VCALENDAR