BEGIN:VCALENDAR
VERSION:2.0
PRODID:-//Le Petit Varois.Fr - ECPv6.0.10//NONSGML v1.0//EN
CALSCALE:GREGORIAN
METHOD:PUBLISH
X-ORIGINAL-URL:https://lepetitvarois.fr
X-WR-CALDESC:évènements pour Le Petit Varois.Fr
REFRESH-INTERVAL;VALUE=DURATION:PT1H
X-Robots-Tag:noindex
X-PUBLISHED-TTL:PT1H
BEGIN:VTIMEZONE
TZID:Europe/Paris
BEGIN:DAYLIGHT
TZOFFSETFROM:+0100
TZOFFSETTO:+0200
TZNAME:CEST
DTSTART:20190331T010000
END:DAYLIGHT
BEGIN:STANDARD
TZOFFSETFROM:+0200
TZOFFSETTO:+0100
TZNAME:CET
DTSTART:20191027T010000
END:STANDARD
END:VTIMEZONE
BEGIN:VEVENT
DTSTART;TZID=Europe/Paris:20191107T143000
DTEND;TZID=Europe/Paris:20191107T170000
DTSTAMP:20260420T185836
CREATED:20191106T131304Z
LAST-MODIFIED:20191106T131304Z
UID:13065-1573137000-1573146000@lepetitvarois.fr
SUMMARY:Conférence d'histoire de l'art "La forme expression de mystères\, Piero della Francesca"
DESCRIPTION:Conférence d’histoire de l’art « La forme expression de mystères\, Piero della Francesca » à 14h30. \nMaison du Cygne\, bois de la Coudoulière. SIX FOURS\n> Réservation obligatoire.\nAssociation Cultures Ecritures Peintures 04 94 91 52 95  biancris@orange.fr
URL:https://lepetitvarois.fr/event/conference-dhistoire-de-lart-la-forme-expression-de-mysteres-piero-della-francesca/
CATEGORIES:Six-Fours
ATTACH;FMTTYPE=image/jpeg:https://lepetitvarois.fr/wp-content/uploads/2019/11/color-3256055_960_720.jpg
END:VEVENT
BEGIN:VEVENT
DTSTART;TZID=Europe/Paris:20191107T190000
DTEND;TZID=Europe/Paris:20191107T210000
DTSTAMP:20260420T185836
CREATED:20191106T131559Z
LAST-MODIFIED:20191106T131559Z
UID:13068-1573153200-1573160400@lepetitvarois.fr
SUMMARY:Café philo "Fécondité de l'imaginaire. Quand l'imaginaire se met au travail..."
DESCRIPTION: Café philo « Fécondité de l’imaginaire. Quand l’imaginaire se met au travail… » animé par Nicole Fabre à partir de 19h. \nLe Mont Salva\, ch. du Mont Salva\, Le Brusc. SIX FOURS\n> Entrée sans réservation. 2 formules au choix 15 € la cotisation pour 1 an (7\,50 € pour les -25 ans) / 5 € la séance (2\,50 € pour les -25 ans) + consommation obligatoire 2\,50 €. Possibilité de dîner sur place ensuite avec le conférencier 24 €  vin compris.\nLe Rendez-vous des Idées 06 38 40 07 70 jeanmichelberenguier@gmail.com    \n 
URL:https://lepetitvarois.fr/event/cafe-philo-fecondite-de-limaginaire-quand-limaginaire-se-met-au-travail/
CATEGORIES:Six-Fours
ATTACH;FMTTYPE=image/jpeg:https://lepetitvarois.fr/wp-content/uploads/2019/11/tea-time-3240766_960_720.jpg
END:VEVENT
END:VCALENDAR