BEGIN:VCALENDAR
VERSION:2.0
PRODID:-//Le Petit Varois.Fr - ECPv6.0.10//NONSGML v1.0//EN
CALSCALE:GREGORIAN
METHOD:PUBLISH
X-WR-CALNAME:Le Petit Varois.Fr
X-ORIGINAL-URL:https://lepetitvarois.fr
X-WR-CALDESC:évènements pour Le Petit Varois.Fr
REFRESH-INTERVAL;VALUE=DURATION:PT1H
X-Robots-Tag:noindex
X-PUBLISHED-TTL:PT1H
BEGIN:VTIMEZONE
TZID:Europe/Paris
BEGIN:DAYLIGHT
TZOFFSETFROM:+0100
TZOFFSETTO:+0200
TZNAME:CEST
DTSTART:20190331T010000
END:DAYLIGHT
BEGIN:STANDARD
TZOFFSETFROM:+0200
TZOFFSETTO:+0100
TZNAME:CET
DTSTART:20191027T010000
END:STANDARD
END:VTIMEZONE
BEGIN:VEVENT
DTSTART;VALUE=DATE:20191109
DTEND;VALUE=DATE:20191111
DTSTAMP:20260420T185710
CREATED:20191106T143820Z
LAST-MODIFIED:20191106T143820Z
UID:13080-1573257600-1573430399@lepetitvarois.fr
SUMMARY:Bourse aux skis
DESCRIPTION:Bourse aux skis de 9h à 19h. \nPlace du verger. SIX FOURS\nLa bourse aux skis permet de trouver des skis\, du matériel de ski d’occasion et de réaliser de bonnes affaires. Pour les gens qui le souhaitent\, dépôt des équipements et vêtements les vendredis 8 novembre de 17h à 19h.\nSki club de Six Fours 06 18 00 11 77 www.skiclubsixfours.com
URL:https://lepetitvarois.fr/event/bourse-aux-skis/
CATEGORIES:Six-Fours
ATTACH;FMTTYPE=image/jpeg:https://lepetitvarois.fr/wp-content/uploads/2018/10/ski-932188_960_720.jpg
END:VEVENT
END:VCALENDAR