BEGIN:VCALENDAR
VERSION:2.0
PRODID:-//Le Petit Varois.Fr - ECPv6.0.10//NONSGML v1.0//EN
CALSCALE:GREGORIAN
METHOD:PUBLISH
X-WR-CALNAME:Le Petit Varois.Fr
X-ORIGINAL-URL:https://lepetitvarois.fr
X-WR-CALDESC:évènements pour Le Petit Varois.Fr
REFRESH-INTERVAL;VALUE=DURATION:PT1H
X-Robots-Tag:noindex
X-PUBLISHED-TTL:PT1H
BEGIN:VTIMEZONE
TZID:Europe/Paris
BEGIN:DAYLIGHT
TZOFFSETFROM:+0100
TZOFFSETTO:+0200
TZNAME:CEST
DTSTART:20190331T010000
END:DAYLIGHT
BEGIN:STANDARD
TZOFFSETFROM:+0200
TZOFFSETTO:+0100
TZNAME:CET
DTSTART:20191027T010000
END:STANDARD
END:VTIMEZONE
BEGIN:VEVENT
DTSTART;TZID=Europe/Paris:20191117T090000
DTEND;TZID=Europe/Paris:20191117T170000
DTSTAMP:20260420T185514
CREATED:20191107T103240Z
LAST-MODIFIED:20191107T103240Z
UID:13134-1573981200-1574010000@lepetitvarois.fr
SUMMARY:Salon multi-collection
DESCRIPTION: Salon multi-collection au profit du Telethon de 9h à 17h. \nSalle Scarantino\, 45 rue du Stade. SIX FOURS\nTimbres\, cartes postales\, muselets\, numismatique\, jouets… Venez chercher l’objet qui vous manque. \n> Gratuit.\nAssociation Philatélique des Baies du Soleil 04 94 34 68 67 / 06 21 36 18 93 
URL:https://lepetitvarois.fr/event/salon-multi-collection/
CATEGORIES:Six-Fours
ATTACH;FMTTYPE=image/png:https://lepetitvarois.fr/wp-content/uploads/2018/09/Capture-d’écran-2018-09-26-à-21.51.09.png
END:VEVENT
BEGIN:VEVENT
DTSTART;TZID=Europe/Paris:20191117T143000
DTEND;TZID=Europe/Paris:20191117T170000
DTSTAMP:20260420T185514
CREATED:20191107T103656Z
LAST-MODIFIED:20191107T103656Z
UID:13142-1574001000-1574010000@lepetitvarois.fr
SUMMARY:Loto
DESCRIPTION:Loto à 14h30. \nEspace culturel André Malraux\, 100 av. de Lattre de Tassigny. SIX FOURS\n9 cartons pleins\, 27 quines : HI FI\, cartons de champagnes\, electro ménagers\, paniers garnis\,et autres nombreux lots\,  bons d’achats de 100 € à 300 € et super cagnotte de 900 €. \n> 15 € plaque de 4 cartons / 20 € plaque de 6 cartons. Réservation obligatoire.\nComité officiel des fêtes 06 62 03 11 96 www.comitedesfetesdesixfours.org \n 
URL:https://lepetitvarois.fr/event/loto-12/
CATEGORIES:Six-Fours
ATTACH;FMTTYPE=image/jpeg:https://lepetitvarois.fr/wp-content/uploads/2018/12/47146727_2408017149425928_791952447093342208_n.jpg
END:VEVENT
END:VCALENDAR