BEGIN:VCALENDAR
VERSION:2.0
PRODID:-//Le Petit Varois.Fr - ECPv6.0.10//NONSGML v1.0//EN
CALSCALE:GREGORIAN
METHOD:PUBLISH
X-WR-CALNAME:Le Petit Varois.Fr
X-ORIGINAL-URL:https://lepetitvarois.fr
X-WR-CALDESC:évènements pour Le Petit Varois.Fr
REFRESH-INTERVAL;VALUE=DURATION:PT1H
X-Robots-Tag:noindex
X-PUBLISHED-TTL:PT1H
BEGIN:VTIMEZONE
TZID:Europe/Paris
BEGIN:DAYLIGHT
TZOFFSETFROM:+0100
TZOFFSETTO:+0200
TZNAME:CEST
DTSTART:20190331T010000
END:DAYLIGHT
BEGIN:STANDARD
TZOFFSETFROM:+0200
TZOFFSETTO:+0100
TZNAME:CET
DTSTART:20191027T010000
END:STANDARD
END:VTIMEZONE
BEGIN:VEVENT
DTSTART;TZID=Europe/Paris:20191118T140000
DTEND;TZID=Europe/Paris:20191118T180000
DTSTAMP:20260420T185534
CREATED:20191107T103904Z
LAST-MODIFIED:20191107T103904Z
UID:13146-1574085600-1574100000@lepetitvarois.fr
SUMMARY:Après-midi dansant
DESCRIPTION:Après-midi dansant de 14h à 18h. \nEspace culturel André Malraux\, 100 av. de Lattre de Tassigny. SIX FOURS\n> Gratuit.\nComité officiel des fêtes 06 62 03 11 96 www.comitedesfetesdesixfours.org
URL:https://lepetitvarois.fr/event/apres-midi-dansant-2/
CATEGORIES:Six-Fours
ATTACH;FMTTYPE=image/jpeg:https://lepetitvarois.fr/wp-content/uploads/2019/07/dancers-2934216_960_720.jpg
END:VEVENT
BEGIN:VEVENT
DTSTART;TZID=Europe/Paris:20191118T150000
DTEND;TZID=Europe/Paris:20191118T183000
DTSTAMP:20260420T185534
CREATED:20191107T104239Z
LAST-MODIFIED:20191107T104239Z
UID:13148-1574089200-1574101800@lepetitvarois.fr
SUMMARY:Vidéo projections "La Maison du Cygne"\, "Un week-end dans le Lubéron" et "Naissance des USA : Washington & New York"
DESCRIPTION:Vidéo projections « La Maison du Cygne »\, « Un week-end dans le Lubéron » et « Naissance des USA : Washington & New York » à 15h. \nThéâtre Daudet\, 100 av. du Maréchal de Lattre de Tassigny. SIX FOURS. \n> Entrée libre.\nVoyages loisirs culturels 06 47 50 57 26 www.vlcsixfours.fr \n 
URL:https://lepetitvarois.fr/event/video-projections-la-maison-du-cygne-un-week-end-dans-le-luberon-et-naissance-des-usa-washington-new-york/
CATEGORIES:Six-Fours
ATTACH;FMTTYPE=image/jpeg:https://lepetitvarois.fr/wp-content/uploads/2018/09/analogue-2974647_960_720.jpg
END:VEVENT
END:VCALENDAR