BEGIN:VCALENDAR
VERSION:2.0
PRODID:-//Le Petit Varois.Fr - ECPv6.0.10//NONSGML v1.0//EN
CALSCALE:GREGORIAN
METHOD:PUBLISH
X-WR-CALNAME:Le Petit Varois.Fr
X-ORIGINAL-URL:https://lepetitvarois.fr
X-WR-CALDESC:évènements pour Le Petit Varois.Fr
REFRESH-INTERVAL;VALUE=DURATION:PT1H
X-Robots-Tag:noindex
X-PUBLISHED-TTL:PT1H
BEGIN:VTIMEZONE
TZID:Europe/Paris
BEGIN:DAYLIGHT
TZOFFSETFROM:+0100
TZOFFSETTO:+0200
TZNAME:CEST
DTSTART:20190331T010000
END:DAYLIGHT
BEGIN:STANDARD
TZOFFSETFROM:+0200
TZOFFSETTO:+0100
TZNAME:CET
DTSTART:20191027T010000
END:STANDARD
END:VTIMEZONE
BEGIN:VEVENT
DTSTART;TZID=Europe/Paris:20191119T150000
DTEND;TZID=Europe/Paris:20191119T183000
DTSTAMP:20260420T185537
CREATED:20191107T104710Z
LAST-MODIFIED:20191107T104710Z
UID:13153-1574175600-1574188200@lepetitvarois.fr
SUMMARY:Après-midi dansants
DESCRIPTION:Après-midi dansants animé par Marcel Musette animateur\, chanteur et Dj de 15h à 18h. \nSalle Scarantino\, 45 rue du Stade. SIX FOURS\nToutes danses : rétro\, musette\, disco\, danses en ligne (madison kuduru\, tarentelle…). \n> 7 € adhérent / 9 € non-adhérent (12 € l’adhésion annuelle).\nAssociation Starmelody 06 14 33 17 76 83starmelody@gmail.com   \n 
URL:https://lepetitvarois.fr/event/apres-midi-dansants/
CATEGORIES:Six-Fours
ATTACH;FMTTYPE=image/jpeg:https://lepetitvarois.fr/wp-content/uploads/2018/06/dance-238263_960_720.jpg
END:VEVENT
END:VCALENDAR