BEGIN:VCALENDAR
VERSION:2.0
PRODID:-//Le Petit Varois.Fr - ECPv6.0.10//NONSGML v1.0//EN
CALSCALE:GREGORIAN
METHOD:PUBLISH
X-ORIGINAL-URL:https://lepetitvarois.fr
X-WR-CALDESC:évènements pour Le Petit Varois.Fr
REFRESH-INTERVAL;VALUE=DURATION:PT1H
X-Robots-Tag:noindex
X-PUBLISHED-TTL:PT1H
BEGIN:VTIMEZONE
TZID:Europe/Paris
BEGIN:DAYLIGHT
TZOFFSETFROM:+0100
TZOFFSETTO:+0200
TZNAME:CEST
DTSTART:20190331T010000
END:DAYLIGHT
BEGIN:STANDARD
TZOFFSETFROM:+0200
TZOFFSETTO:+0100
TZNAME:CET
DTSTART:20191027T010000
END:STANDARD
END:VTIMEZONE
BEGIN:VEVENT
DTSTART;TZID=Europe/Paris:20191121T143000
DTEND;TZID=Europe/Paris:20191121T170000
DTSTAMP:20260420T185815
CREATED:20191107T105644Z
LAST-MODIFIED:20191107T105644Z
UID:13164-1574346600-1574355600@lepetitvarois.fr
SUMMARY:Conférence "L'autoportrait : L'artiste peintre et le philosophe" sur le thème "Document d'identité de la philosophie"
DESCRIPTION:Conférence « L’autoportrait : L’artiste peintre et le philosophe » sur le thème « Document d’identité de la philosophie » par Lygia Araujo Watanabe\, professeur de philosophie à 14h30. \nMaison du Cygne\, bois de la Coudoulière. SIX FOURS. \n> Inscription obligatoire.\nAssociation Cultures Ecritures Peintures 04 94 91 52 95 biancris@orange.fr 
URL:https://lepetitvarois.fr/event/conference-lautoportrait-lartiste-peintre-et-le-philosophe-sur-le-theme-document-didentite-de-la-philosophie/
CATEGORIES:Six-Fours
ATTACH;FMTTYPE=image/jpeg:https://lepetitvarois.fr/wp-content/uploads/2019/11/color-3256055_960_720.jpg
END:VEVENT
BEGIN:VEVENT
DTSTART;TZID=Europe/Paris:20191121T200000
DTEND;TZID=Europe/Paris:20191121T200000
DTSTAMP:20260420T185815
CREATED:20191107T110134Z
LAST-MODIFIED:20191107T110134Z
UID:13170-1574366400-1574366400@lepetitvarois.fr
SUMMARY:Soirée dansante Beaujolais Nouveau avec Dj
DESCRIPTION:Soirée dansante Beaujolais Nouveau avec Dj à 20h. \nRestaurant Le Mont Salva\, ch. du Mont Salva\, Le Brusc. SIX FOURS\n> 38 € tout compris (apéritif\, dîner\, 1/4 de beaujolais par personne). \nRéservation 04 94 34 03 93 / 06 28 46 18 41 www.restaurant-reception.com 
URL:https://lepetitvarois.fr/event/soiree-dansante-beaujolais-nouveau-avec-dj/
CATEGORIES:Six-Fours
ATTACH;FMTTYPE=image/jpeg:https://lepetitvarois.fr/wp-content/uploads/2019/05/restaurant-mont-salva.jpg
END:VEVENT
BEGIN:VEVENT
DTSTART;TZID=Europe/Paris:20191121T203000
DTEND;TZID=Europe/Paris:20191121T223000
DTSTAMP:20260420T185815
CREATED:20191107T110339Z
LAST-MODIFIED:20191107T110339Z
UID:13172-1574368200-1574375400@lepetitvarois.fr
SUMMARY:Ciné conférence "Changer"
DESCRIPTION: Ciné conférence « Changer » à 20h30. \nCinéma Six n’Etoiles\, 48 rue de la République. SIX FOURS\nCycle de conférence France Inter « Demain notre planète » retransmis en direct. Avec Hubert Reeves astrophysicien et écologiste\, Cynthia Fleury philosophe et psychanalyste\, Aurélien Barrau astrophysicien et Valérie Cabanes juriste en droit international. Au cœur de la crise environnementale\, un changement de société s’impose pour engager une transition durable. De la prise de conscience à l’engagement\, quels sont les freins qui nous empêchent d’agir ? Comment vaincre nos résistances pour changer nos modes de vie et rêver le monde de demain ?\n> Tarifs habituels du cinéma / 6\,20 € prix privilège office de tourisme en vente dans nos accueils.\nRéservation 04 94 26 58 48 contact.sixnetoiles@gmail.com – www.sixnetoiles.fr 
URL:https://lepetitvarois.fr/event/cine-conference-changer/
CATEGORIES:Six-Fours
ATTACH;FMTTYPE=image/jpeg:https://lepetitvarois.fr/wp-content/uploads/2018/08/sky-828648_960_720.jpg
END:VEVENT
END:VCALENDAR