BEGIN:VCALENDAR
VERSION:2.0
PRODID:-//Le Petit Varois.Fr - ECPv6.0.10//NONSGML v1.0//EN
CALSCALE:GREGORIAN
METHOD:PUBLISH
X-WR-CALNAME:Le Petit Varois.Fr
X-ORIGINAL-URL:https://lepetitvarois.fr
X-WR-CALDESC:évènements pour Le Petit Varois.Fr
REFRESH-INTERVAL;VALUE=DURATION:PT1H
X-Robots-Tag:noindex
X-PUBLISHED-TTL:PT1H
BEGIN:VTIMEZONE
TZID:Europe/Paris
BEGIN:DAYLIGHT
TZOFFSETFROM:+0100
TZOFFSETTO:+0200
TZNAME:CEST
DTSTART:20190331T010000
END:DAYLIGHT
BEGIN:STANDARD
TZOFFSETFROM:+0200
TZOFFSETTO:+0100
TZNAME:CET
DTSTART:20191027T010000
END:STANDARD
END:VTIMEZONE
BEGIN:VEVENT
DTSTART;VALUE=DATE:20191123
DTEND;VALUE=DATE:20191125
DTSTAMP:20260420T185537
CREATED:20191107T111113Z
LAST-MODIFIED:20191107T111113Z
UID:13182-1574467200-1574639999@lepetitvarois.fr
SUMMARY:Bourse aux skis
DESCRIPTION:Bourse aux skis de 9h à 19h. \nPlace du verger. SIX FOURS\nLa bourse aux skis permet de trouver des skis\, du matériel de ski d’occasion et de réaliser de bonnes affaires. Pour les gens qui le souhaitent\, dépôt des équipements et vêtements les vendredis 22 novembre de 17h à 19h.\n> Accès libre.\nSki club de Six Fours 06 18 00 11 77 www.skiclubsixfours.com
URL:https://lepetitvarois.fr/event/bourse-aux-skis-2/
CATEGORIES:Six-Fours
ATTACH;FMTTYPE=image/jpeg:https://lepetitvarois.fr/wp-content/uploads/2018/10/ski-932188_960_720.jpg
END:VEVENT
BEGIN:VEVENT
DTSTART;TZID=Europe/Paris:20191124T150000
DTEND;TZID=Europe/Paris:20191124T170000
DTSTAMP:20260420T185537
CREATED:20191107T115237Z
LAST-MODIFIED:20191107T115237Z
UID:13201-1574607600-1574614800@lepetitvarois.fr
SUMMARY:Concert de la Sainte Cécile par la Philharmonique la Six Fournaise
DESCRIPTION:Concert de la Sainte Cécile par la Philharmonique la Six Fournaise à 15h. \nEspace culturel André Malraux\, 100 avenue de Lattre de Tassigny. SIX FOURS\nCe concert sous la direction de Gisèle Ghigo s’inscrit dans le cadre des hommages et cérémonies commémorant le centenaire de l’armistice du 11 novembre 1918. \n> Entrée libre. Pas de réservation.\nSociété philharmonique la Six Fournaise 04 89 66 59 50 / 06 87 63 32 16 – philharmlasixfournaise@gmail.com 
URL:https://lepetitvarois.fr/event/concert-de-la-sainte-cecile-par-la-philharmonique-la-six-fournaise-2/
CATEGORIES:Six-Fours
ATTACH;FMTTYPE=image/jpeg:https://lepetitvarois.fr/wp-content/uploads/2018/10/classical-music-1838390_960_720.jpg
END:VEVENT
END:VCALENDAR