BEGIN:VCALENDAR
VERSION:2.0
PRODID:-//Le Petit Varois.Fr - ECPv6.0.10//NONSGML v1.0//EN
CALSCALE:GREGORIAN
METHOD:PUBLISH
X-ORIGINAL-URL:https://lepetitvarois.fr
X-WR-CALDESC:évènements pour Le Petit Varois.Fr
REFRESH-INTERVAL;VALUE=DURATION:PT1H
X-Robots-Tag:noindex
X-PUBLISHED-TTL:PT1H
BEGIN:VTIMEZONE
TZID:Europe/Paris
BEGIN:DAYLIGHT
TZOFFSETFROM:+0100
TZOFFSETTO:+0200
TZNAME:CEST
DTSTART:20190331T010000
END:DAYLIGHT
BEGIN:STANDARD
TZOFFSETFROM:+0200
TZOFFSETTO:+0100
TZNAME:CET
DTSTART:20191027T010000
END:STANDARD
END:VTIMEZONE
BEGIN:VEVENT
DTSTART;VALUE=DATE:20191126
DTEND;VALUE=DATE:20191201
DTSTAMP:20260420T171456
CREATED:20191107T115630Z
LAST-MODIFIED:20191107T115630Z
UID:13208-1574726400-1575158399@lepetitvarois.fr
SUMMARY:18è festival de cinéma portraits de femmes "A nos combats"
DESCRIPTION:18è festival de cinéma portraits de femmes « A nos combats »  \nCinéma Six n’Etoiles\, 48 rue de la République. SIX FOURS\nMardi 26 :  \n19h\, buffet et présentation du festival. \n20h30 « Marie Stuart\, reine d’Ecosse » de Josie Rourke (USA) \nLe destin tumultueux de Marie épouse du roi de France à 16 ans.  \nJeudi 28 :  \n18h « C’est ça l’amour » de Claire Burger (France) \nDepuis que sa femme est partie\, Mario élève seul ses deux filles. Il attend toujours son retour. \n20h30 « Un amour impossible » de Catherine Corsini (France) \nRachel\, employée de bureau\, rencontre Philippe issu d’une famille bourgeoise. \nVendredi 29 :\n18h « Amanda » de Mikaeël Hers (France)\nLorsque sa soeur meurt\, David 24 ans prend en charge sa nièce de 7 ans. \n20h30 « Chambre 212 » de Christophe Honoré (Luxembourg)\nAprès 20 ans de mariage\, Maria décide de quitter le domicile conjugal. \nSamedi 30 :\n14h « Carmen et Lola » de Arantxa Echevarria (Espagne)\nCarmen gitane destinée à se marier rencontre Lola gitane également. \n17h30 « Fugue » de Agnieszka Smoczynska (Pologne)\nAlica a perdu la mémoire\, 2 ans après elle retrouve les siens. \n20h30 « Les témoins de Lendsdorf » de Amichai Greenberg (Israël)\nYoel\, historien enquête sur un massacre qui aurait lieu dans le village de Lendsdorf. \n> 6\,50 € 1 film / 18 € pour 5 films au choix + 7 € soirée de clôture / 10 € soirée de clôture.\nRéservations auprès des Chantiers du Cinéma au 04 94 09 05 31 / 06 14 82 24 18.\nRéservation à Toulon : librairie le carré des mots\, 30 rue Henri Seillon – 04 94 41 46 16\nRéservation à La Seyne : le Transbordeur\, 32 av. Gambetta – 04 94 10 52 11\nRéservation à Six Fours : voir et entendre\, 126 av. Laennec – 04 94 26 38 19\nRéservation à Sanary : optique photo Meucci\, 4 rue Félix Pijeaud – 04 94 74 17 58 \nLes Chantiers du Cinéma 04 94 09 05 31 www.festivalportraitsdefemmes.com  \n 
URL:https://lepetitvarois.fr/event/18e-festival-de-cinema-portraits-de-femmes-a-nos-combats/
CATEGORIES:Six-Fours
ATTACH;FMTTYPE=image/jpeg:https://lepetitvarois.fr/wp-content/uploads/2019/11/girl-1382947_960_720.jpg
END:VEVENT
BEGIN:VEVENT
DTSTART;VALUE=DATE:20191130
DTEND;VALUE=DATE:20191202
DTSTAMP:20260420T171456
CREATED:20191107T120834Z
LAST-MODIFIED:20191107T120834Z
UID:13232-1575072000-1575244799@lepetitvarois.fr
SUMMARY:7è biennale : le village des santonniers
DESCRIPTION:7è biennale : le village des santonniers  \nPlace des Poilus. SIX FOURS\nA cette occasion un véritable village des santonniers sera monté sur la place des Poilus\, des santonniers sélectionnés pour la qualité de leur travail exposeront et vendront leurs réalisations tout au long de ces deux journées.\nDe nombreuses animations accompagneront cet événement : manade de chevaux camarguais\, danses traditionnelles folkloriques\, animations diverses\, ateliers de création\, balades en calèche\, vente et dégustation de produits du terroir.\nService communication 04 94 34 93 50 www.ville-six-fours.fr  \n 
URL:https://lepetitvarois.fr/event/7e-biennale-le-village-des-santonniers/
CATEGORIES:Six-Fours
ATTACH;FMTTYPE=image/jpeg:https://lepetitvarois.fr/wp-content/uploads/2018/12/santons-2943795_960_720.jpg
END:VEVENT
BEGIN:VEVENT
DTSTART;TZID=Europe/Paris:20191130T080000
DTEND;TZID=Europe/Paris:20191130T140000
DTSTAMP:20260420T171456
CREATED:20191107T121311Z
LAST-MODIFIED:20191107T121311Z
UID:13239-1575100800-1575122400@lepetitvarois.fr
SUMMARY:Bourse aux jouets
DESCRIPTION: Bourse aux jouets pour le Téléthon de 8h à 14h. \nEsplanade du Verger\, contre-allée de Lattre de Tassigny. SIX FOURS\nKiwanis La Seyne Six Fours Saint Mandrier 06 63 39 99 48 
URL:https://lepetitvarois.fr/event/bourse-aux-jouets-6/
CATEGORIES:Six-Fours
ATTACH;FMTTYPE=image/jpeg:https://lepetitvarois.fr/wp-content/uploads/2018/02/marbles-1659398_960_720.jpg
END:VEVENT
BEGIN:VEVENT
DTSTART;TZID=Europe/Paris:20191130T173000
DTEND;TZID=Europe/Paris:20191130T193000
DTSTAMP:20260420T171456
CREATED:20191107T121701Z
LAST-MODIFIED:20191107T121701Z
UID:13245-1575135000-1575142200@lepetitvarois.fr
SUMMARY:Conférence et soirée consacrée à l'Amérique Latine
DESCRIPTION:Conférence et soirée consacrée à l’Amérique Latine  \nRestaurant Le Mont Salva\, ch. du Mont Salva\, Le Brusc. SIX FOURS\nPour devancer les fêtes de Noël\, Matriochka vous propose une soirée conviviale. \n17h30\, accueil des participants. \n18h\, conférence diaporama sur l’Amérique Latine par Isabelle Calderon. \nA partir de 19h30\, apéritif à base de punch et jus de fruits. \n20h\, repas et musique d’Amérique Latine avec un guitariste et un percussionniste.\n> 36 € par personne. Inscription obligatoire.\nAssociation Matriochka 04 94 25 82 61 / 06 18 48 90 15  
URL:https://lepetitvarois.fr/event/conference-et-soiree-consacree-a-lamerique-latine/
CATEGORIES:Six-Fours
ATTACH;FMTTYPE=image/jpeg:https://lepetitvarois.fr/wp-content/uploads/2019/05/nice-1046188_960_720.jpg
END:VEVENT
END:VCALENDAR