BEGIN:VCALENDAR
VERSION:2.0
PRODID:-//Le Petit Varois.Fr - ECPv6.0.10//NONSGML v1.0//EN
CALSCALE:GREGORIAN
METHOD:PUBLISH
X-WR-CALNAME:Le Petit Varois.Fr
X-ORIGINAL-URL:https://lepetitvarois.fr
X-WR-CALDESC:évènements pour Le Petit Varois.Fr
REFRESH-INTERVAL;VALUE=DURATION:PT1H
X-Robots-Tag:noindex
X-PUBLISHED-TTL:PT1H
BEGIN:VTIMEZONE
TZID:Europe/Paris
BEGIN:DAYLIGHT
TZOFFSETFROM:+0100
TZOFFSETTO:+0200
TZNAME:CEST
DTSTART:20200329T010000
END:DAYLIGHT
BEGIN:STANDARD
TZOFFSETFROM:+0200
TZOFFSETTO:+0100
TZNAME:CET
DTSTART:20201025T010000
END:STANDARD
END:VTIMEZONE
BEGIN:VEVENT
DTSTART;TZID=Europe/Paris:20200113T083000
DTEND;TZID=Europe/Paris:20200113T123000
DTSTAMP:20260420T154555
CREATED:20200109T233508Z
LAST-MODIFIED:20200109T233508Z
UID:13922-1578904200-1578918600@lepetitvarois.fr
SUMMARY:Comédie Française au cinéma "Les Fourberies de Scapin"
DESCRIPTION:Comédie Française au cinéma « Les Fourberies de Scapin » à 20h15. \nCinéma Six n’Etoiles\, 48 rue de la République. SIX FOURS\nEntre coups de bâtons et ruses en cascades\, le valet le plus célèbre du Répertoire réussit à démêler les pires situations. Après la Salle Richelieu\, la Troupe repartira sur les routes de France et d’Europe avec cette grande comédie de Molière. Vingt ans après la dernière production des Fourberies de Scapin à la Comédie-Française\, Denis Podalydès ouvrait la saison 2017-2018 avec cette œuvre majeure de Molière\, jouée plus de 1 500 fois par les Comédiens-Français. \n« Pièce de troupe\, écrite non pas pour la Cour mais pour le peuple »\, elle est créée en 1671 au Palais-Royal pendant une période de travaux. Molière souhaite alors se libérer des contraintes des comédies-ballets et des comédies à machines et revient au « théâtre pur »\, offrant au metteur en scène une grande liberté d’action. \nLa scène se passe ici à Naples\, porte ouverte à l’imaginaire maritime\, tendue vers l’Orient. Face à deux pères autoritaires\, deux fils aux amours contrariées s’en remettent au rusé Scapin\, habité d’une folle énergie de revanche\, double de Scaramouche\, acteur italien à la vie aventureuse que Molière admirait. « À vous dire la vérité\, il y a peu de choses qui me soient impossibles\, quand je m’en veux mêler » déclare le valet bouffon dont le nom\, comme le rappelle Denis Podalydès\, vient du verbe italien scappare qui signifie « s’échapper »\, « s’envoler ». S’il reçoit des coups de bâton\, il en rend tout autant et déploie\, dans un climat de demande de rançon et de contrariétés paternelles\, une avalanche de stratagèmes et autres fourberies que l’auteur excellait à peindre. Après une tournée en région à l’automne 2018\, le spectacle retrouve la Salle Richelieu et sera sur les routes de France et d’Europe au printemps 2020.\n> 24 € / 10 € pour les -26 ans. Abonnement 2 représentations au choix : 34 €. \nRéservation 04 94 26 58 48  www.sixnetoiles.fr
URL:https://lepetitvarois.fr/event/comedie-francaise-au-cinema-les-fourberies-de-scapin/
CATEGORIES:Six-Fours
ATTACH;FMTTYPE=image/jpeg:https://lepetitvarois.fr/wp-content/uploads/2018/09/analogue-2974647_960_720.jpg
END:VEVENT
END:VCALENDAR