BEGIN:VCALENDAR
VERSION:2.0
PRODID:-//Le Petit Varois.Fr - ECPv6.0.10//NONSGML v1.0//EN
CALSCALE:GREGORIAN
METHOD:PUBLISH
X-WR-CALNAME:Le Petit Varois.Fr
X-ORIGINAL-URL:https://lepetitvarois.fr
X-WR-CALDESC:évènements pour Le Petit Varois.Fr
REFRESH-INTERVAL;VALUE=DURATION:PT1H
X-Robots-Tag:noindex
X-PUBLISHED-TTL:PT1H
BEGIN:VTIMEZONE
TZID:Europe/Paris
BEGIN:DAYLIGHT
TZOFFSETFROM:+0100
TZOFFSETTO:+0200
TZNAME:CEST
DTSTART:20200329T010000
END:DAYLIGHT
BEGIN:STANDARD
TZOFFSETFROM:+0200
TZOFFSETTO:+0100
TZNAME:CET
DTSTART:20201025T010000
END:STANDARD
END:VTIMEZONE
BEGIN:VEVENT
DTSTART;VALUE=DATE:20200115
DTEND;VALUE=DATE:20200122
DTSTAMP:20260420T154520
CREATED:20200109T234044Z
LAST-MODIFIED:20200109T234044Z
UID:13930-1579046400-1579651199@lepetitvarois.fr
SUMMARY:23è festival Télérama
DESCRIPTION:23è festival Télérama  \nCinéma Six n’Etoiles\, 48 rue de la République. SIX FOURS\nDepuis plus de 20 ans\, l’AFCAE et Télérama organisent au mois de janvier le Festival Cinéma Télérama\, en proposant une sélection des 15 « meilleurs films de l’année »\, et un coup de cœur Jeune Public\, choisis par la rédaction du magazine. Depuis 4 ans\, s’ajoutent à cette sélection de films présentés en avant-première\, choisis en concertation avec l’AFCAE.\n> 3\,50 €. \nRenseignement et réservation 04 94 26 58 48 www.sixnetoiles.fr \n 
URL:https://lepetitvarois.fr/event/23e-festival-telerama/
CATEGORIES:Six-Fours
ATTACH;FMTTYPE=image/png:https://lepetitvarois.fr/wp-content/uploads/2020/01/Capture-d’écran-2020-01-10-à-00.39.08.png
END:VEVENT
BEGIN:VEVENT
DTSTART;TZID=Europe/Paris:20200116T143000
DTEND;TZID=Europe/Paris:20200116T170000
DTSTAMP:20260420T154520
CREATED:20200109T235608Z
LAST-MODIFIED:20200109T235608Z
UID:13942-1579185000-1579194000@lepetitvarois.fr
SUMMARY:Conférence "L'autoportrait : L'artiste peintre et le philosophe" sur le thème "Dire et peindre : qu'appelle-t-on penser ?"
DESCRIPTION:Conférence « L’autoportrait : L’artiste peintre et le philosophe » sur le thème « Dire et peindre : qu’appelle-t-on penser ? » par Lygia Araujo Watanabe\, professeur de philosophie à 14h30. \nMaison du Cygne\, bois de la Coudoulière. SIX FOURS\n> Inscription obligatoire.\nAssociation Cultures Ecritures Peintures 04 94 91 52 95 biancris@orange.fr  \n 
URL:https://lepetitvarois.fr/event/conference-lautoportrait-lartiste-peintre-et-le-philosophe-sur-le-theme-dire-et-peindre-quappelle-t-on-penser/
CATEGORIES:Six-Fours
ATTACH;FMTTYPE=image/jpeg:https://lepetitvarois.fr/wp-content/uploads/2015/04/wet-to-dry-dual-intensity-eyeshadow-makeup-71.jpg
END:VEVENT
END:VCALENDAR