BEGIN:VCALENDAR
VERSION:2.0
PRODID:-//Le Petit Varois.Fr - ECPv6.0.10//NONSGML v1.0//EN
CALSCALE:GREGORIAN
METHOD:PUBLISH
X-ORIGINAL-URL:https://lepetitvarois.fr
X-WR-CALDESC:évènements pour Le Petit Varois.Fr
REFRESH-INTERVAL;VALUE=DURATION:PT1H
X-Robots-Tag:noindex
X-PUBLISHED-TTL:PT1H
BEGIN:VTIMEZONE
TZID:Europe/Paris
BEGIN:DAYLIGHT
TZOFFSETFROM:+0100
TZOFFSETTO:+0200
TZNAME:CEST
DTSTART:20200329T010000
END:DAYLIGHT
BEGIN:STANDARD
TZOFFSETFROM:+0200
TZOFFSETTO:+0100
TZNAME:CET
DTSTART:20201025T010000
END:STANDARD
END:VTIMEZONE
BEGIN:VEVENT
DTSTART;TZID=Europe/Paris:20200125T200000
DTEND;TZID=Europe/Paris:20200125T223000
DTSTAMP:20260420T154750
CREATED:20200110T002130Z
LAST-MODIFIED:20200110T002130Z
UID:13988-1579982400-1579991400@lepetitvarois.fr
SUMMARY:Dîner dansant avec Dj
DESCRIPTION:Dîner dansant avec Dj à 20h. \nRestaurant Le Mont Salva\, ch. du Mont Salva\, Le Brusc. SIX FOURS\nVenez passer une soirée à manger et danser dans une ambiance conviviale. \n> Tous les menus du restaurant sont accessibles à partir de 24 €. \nRéservation 06 28 46 18 41 / 04 94 34 03 93 le-mont-salvat.restaurant@wanadoo.fr – www.restaurant-reception.com
URL:https://lepetitvarois.fr/event/diner-dansant-avec-dj-3/
CATEGORIES:Six-Fours
ATTACH;FMTTYPE=image/jpeg:https://lepetitvarois.fr/wp-content/uploads/2019/05/restaurant-mont-salva.jpg
END:VEVENT
END:VCALENDAR