BEGIN:VCALENDAR
VERSION:2.0
PRODID:-//Le Petit Varois.Fr - ECPv6.0.10//NONSGML v1.0//EN
CALSCALE:GREGORIAN
METHOD:PUBLISH
X-ORIGINAL-URL:https://lepetitvarois.fr
X-WR-CALDESC:évènements pour Le Petit Varois.Fr
REFRESH-INTERVAL;VALUE=DURATION:PT1H
X-Robots-Tag:noindex
X-PUBLISHED-TTL:PT1H
BEGIN:VTIMEZONE
TZID:Europe/Paris
BEGIN:DAYLIGHT
TZOFFSETFROM:+0100
TZOFFSETTO:+0200
TZNAME:CEST
DTSTART:20200329T010000
END:DAYLIGHT
BEGIN:STANDARD
TZOFFSETFROM:+0200
TZOFFSETTO:+0100
TZNAME:CET
DTSTART:20201025T010000
END:STANDARD
END:VTIMEZONE
BEGIN:VEVENT
DTSTART;TZID=Europe/Paris:20200128T150000
DTEND;TZID=Europe/Paris:20200128T180000
DTSTAMP:20260420T141617
CREATED:20200110T003952Z
LAST-MODIFIED:20200110T003952Z
UID:14005-1580223600-1580234400@lepetitvarois.fr
SUMMARY:Après-midi dansant
DESCRIPTION:Après-midi dansant animé par Marcel Musette animateur\, chanteur et Dj de 15h à 18h. \nSalle Scarantino\, 45 rue du Stade. SIX FOURS\nToutes danses : rétro\, musette\, disco\, danses en ligne (madison\, kuduro\, tarentelle…). \n> 7 € adhérent / 9 € non-adhérent (12 € l’adhésion annuelle). Réservation obligatoire.\nAssociation Starmelody 06 14 33 17 76 83starmelody@gmail.com  \n 
URL:https://lepetitvarois.fr/event/apres-midi-dansant-6/
CATEGORIES:Six-Fours
ATTACH;FMTTYPE=image/jpeg:https://lepetitvarois.fr/wp-content/uploads/2018/06/dance-238263_960_720.jpg
END:VEVENT
END:VCALENDAR