BEGIN:VCALENDAR
VERSION:2.0
PRODID:-//Le Petit Varois.Fr - ECPv6.0.10//NONSGML v1.0//EN
CALSCALE:GREGORIAN
METHOD:PUBLISH
X-WR-CALNAME:Le Petit Varois.Fr
X-ORIGINAL-URL:https://lepetitvarois.fr
X-WR-CALDESC:évènements pour Le Petit Varois.Fr
REFRESH-INTERVAL;VALUE=DURATION:PT1H
X-Robots-Tag:noindex
X-PUBLISHED-TTL:PT1H
BEGIN:VTIMEZONE
TZID:Europe/Paris
BEGIN:DAYLIGHT
TZOFFSETFROM:+0100
TZOFFSETTO:+0200
TZNAME:CEST
DTSTART:20200329T010000
END:DAYLIGHT
BEGIN:STANDARD
TZOFFSETFROM:+0200
TZOFFSETTO:+0100
TZNAME:CET
DTSTART:20201025T010000
END:STANDARD
END:VTIMEZONE
BEGIN:VEVENT
DTSTART;TZID=Europe/Paris:20200207T190000
DTEND;TZID=Europe/Paris:20200207T210000
DTSTAMP:20260420T141319
CREATED:20200129T215043Z
LAST-MODIFIED:20200129T215043Z
UID:14291-1581102000-1581109200@lepetitvarois.fr
SUMMARY:Avant première "Le Prince oublié" au profit du Rotary de Six Fours
DESCRIPTION:Avant première « Le Prince oublié » au profit du Rotary de Six Fours à 19h. \nCinéma Six n’Etoiles\, 48 rue de la République . SIX FOURS\nRésumé : Djibi vit seul avec Sofia\, sa fille de 8 ans. Tous les soirs\, il invente une histoire pour l’endormir. Lorsque Sofia s’endort\, ces récits extraordinaires prennent vie quelque part dans un monde imaginaire peuplé. Trois ans plus tard\, l’entrée de Sofia au collège va marquer la fin de son enfance. Au grand désespoir de son père\, elle n’a plus besoin de ses histoires le soir. Djibi va alors devoir accepter que sa fille grandisse et le prince du monde imaginaire va devoir trouver sa place.\n> 15 € tarif unique (dont la moitié est reversée à la recherche des maladies du cerveau).  \nRéservation 04 94 26 58 48 contact.sixnetoiles@gmail.com – www.sixnetoiles.fr
URL:https://lepetitvarois.fr/event/avant-premiere-le-prince-oublie-au-profit-du-rotary-de-six-fours/
CATEGORIES:Six-Fours
ATTACH;FMTTYPE=image/png:https://lepetitvarois.fr/wp-content/uploads/2020/01/Capture-d’écran-2020-01-10-à-00.39.08.png
END:VEVENT
END:VCALENDAR